Workbook

Sheet EL
A1: Цена на електроенергията
A3: Разход | B3: Часа | C3: лв./kWh
A4: Дневна | B4: 16 | C4: 0.19163
A5: Нощна | B5: 8 | C5: 0.11744
A6: Върхова | B6: 0
A7: Среднопретеглена за 24 часа | C7: =(B4*C4+B5*C5+B6*C6)/24 -> 0.1669
A8: Задължения към обществото
A9: Акциз по ЗАДС | C9: 0.002
A10: Общо | C10: =SUM(C7:C9) -> 0.1689
A11: ДДС 20% | C11: =C10*0.2 -> 0.03378
A12: Пълна цена на електроенергията | C12: =C10+C11 -> 0.20268
A14: Забележки:
A15: 1. Нощната електроенергия винаги е 8 часа както за стопански, така и за битови потребители.
A16: 2. Дневната електроенергия е 8 часа за стопански и 16 часа за битови потребители.
A17: 3. Върховата електроенергия е 6 часа за стопански и 0 часа за битови потребители.
A18: 4. Точните часове на превклюване на различните тарифи са разписани в Приложение 1 към чл.12 ал.4 на Наредбата за образуване и прилагане на цените на електрическата енергия

Sheet ASIC
A1: Info | B1: ASIC Parameters | F1: Algorithm Parameters | I1: Mining | J1: Power Parameters | N1: Hardware Buy Price in USD | S1: Profit | U1: Забележка
A2: Source | B2: Manufacturer | C2: Serie | D2: Model | E2: Options | F2: Algorithm | G2: Speed | H2: Dim | I2: $/Day | J2: W | K2: PSU % | L2: All W | M2: $/Day | N2: Source | O2: Date | P2: Price | Q2: Delivery | R2: Cost | S2: $/Day | T2: Days
A3: asicminer.co | B3: ASICminer | D3: Air | E3: 48TH/s | F3: SHA256 | G3: 48 | H3: TH/s | I3: =IFERROR(VLOOKUP(F3,NiceHash!$S$3:$W$33,4,FALSE)*G3,"") -> 25.037503 | K3: 0.95 | L3: =IFERROR(J3/K3,J3) -> 0 | M3: =L3*24/1000*EL!$C$12/Prices!$M$2 -> 0 | N3: asicminer.co | O3: 43202 | P3: 3900 | Q3: =IF(P3>0,P3*0.25,"") -> 975 | R3: =IFERROR(P3+Q3,"") -> 4875 | S3: =IFERROR(I3-M3,"") -> 25.037503 | T3: =IFERROR(IF(P3/S3>0,R3/S3,"∞"),"∞") -> 194.70792
A4: asicminer.co | B4: ASICminer | D4: Compact | E4: Standard | F4: SHA256 | G4: 24 | H4: TH/s | I4: =IFERROR(VLOOKUP(F4,NiceHash!$S$3:$W$33,4,FALSE)*G4,"") -> 12.518751 | J4: 3500 | K4: 0.85 | L4: =IFERROR(J4/K4,J4) -> 4117.6471 | M4: =L4*24/1000*EL!$C$12/Prices!$M$2 -> 12.670168 | N4: asicminer.co | O4: 43202 | P4: 2800 | Q4: =IF(P4>0,P4*0.25,"") -> 700 | R4: =IFERROR(P4+Q4,"") -> 3500 | S4: =IFERROR(I4-M4,"") -> -0.15141706 | T4: =IFERROR(IF(P4/S4>0,R4/S4,"∞"),"∞") -> ∞
A5: asicminer.co | B5: ASICminer | D5: Standard | E5: 48TH/s | F5: SHA256 | G5: 48 | H5: TH/s | I5: =IFERROR(VLOOKUP(F5,NiceHash!$S$3:$W$33,4,FALSE)*G5,"") -> 25.037503 | K5: 0.95 | L5: =IFERROR(J5/K5,J5) -> 0 | M5: =L5*24/1000*EL!$C$12/Prices!$M$2 -> 0 | N5: asicminer.co | O5: 43202 | P5: 6500 | Q5: =IF(P5>0,P5*0.25,"") -> 1625 | R5: =IFERROR(P5+Q5,"") -> 8125 | S5: =IFERROR(I5-M5,"") -> 25.037503 | T5: =IFERROR(IF(P5/S5>0,R5/S5,"∞"),"∞") -> 324.5132
A6: bakalminer.com | B6: Baikal | C6: BK | D6: X | F6: Myriad-Groestl | G6: 10 | H6: GH/s | I6: =IFERROR(VLOOKUP(F6,NiceHash!$S$3:$W$33,4,FALSE)*G6,"") | J6: 150 | K6: 0.85 | L6: =IFERROR(J6/K6,J6) -> 176.47059 | M6: =L6*24/1000*EL!$C$12/Prices!$M$2 -> 0.54300722 | N6: bakalminer.com | O6: 43202 | P6: 2700 | Q6: =IF(P6>0,P6*0.25,"") -> 675 | R6: =IFERROR(P6+Q6,"") -> 3375 | S6: =IFERROR(I6-M6,"") | T6: =IFERROR(IF(P6/S6>0,R6/S6,"∞"),"∞") -> ∞
A7: bakalminer.com | B7: Baikal | C7: BK | D7: X | F7: Nist5 | G7: 10000 | H7: MH/s | I7: =IFERROR(VLOOKUP(F7,NiceHash!$S$3:$W$33,4,FALSE)*G7,"") -> 12.717385 | J7: 250 | K7: 0.85 | L7: =IFERROR(J7/K7,J7) -> 294.11765 | M7: =L7*24/1000*EL!$C$12/Prices!$M$2 -> 0.90501203 | N7: bakalminer.com | O7: 43202 | P7: 2700 | Q7: =IF(P7>0,P7*0.25,"") -> 675 | R7: =IFERROR(P7+Q7,"") -> 3375 | S7: =IFERROR(I7-M7,"") -> 11.812373 | T7: =IFERROR(IF(P7/S7>0,R7/S7,"∞"),"∞") -> 285.71736
A8: bakalminer.com | B8: Baikal | C8: BK | D8: X | F8: Quark | G8: 10000 | H8: MH/s | I8: =IFERROR(VLOOKUP(F8,NiceHash!$S$3:$W$33,4,FALSE)*G8,"") -> 5.6117983 | J8: 360 | K8: 0.85 | L8: =IFERROR(J8/K8,J8) -> 423.52941 | M8: =L8*24/1000*EL!$C$12/Prices!$M$2 -> 1.3032173 | N8: bakalminer.com | O8: 43202 | P8: 2700 | Q8: =IF(P8>0,P8*0.25,"") -> 675 | R8: =IFERROR(P8+Q8,"") -> 3375 | S8: =IFERROR(I8-M8,"") -> 4.308581 | T8: =IFERROR(IF(P8/S8>0,R8/S8,"∞"),"∞") -> 783.32054
A9: bakalminer.com | B9: Baikal | C9: BK | D9: X | F9: Qubit | G9: 10000 | H9: MH/s | I9: =IFERROR(VLOOKUP(F9,NiceHash!$S$3:$W$33,4,FALSE)*G9,"") -> 10.343473 | J9: 390 | K9: 0.85 | L9: =IFERROR(J9/K9,J9) -> 458.82353 | M9: =L9*24/1000*EL!$C$12/Prices!$M$2 -> 1.4118188 | N9: bakalminer.com | O9: 43202 | P9: 2700 | Q9: =IF(P9>0,P9*0.25,"") -> 675 | R9: =IFERROR(P9+Q9,"") -> 3375 | S9: =IFERROR(I9-M9,"") -> 8.9316542 | T9: =IFERROR(IF(P9/S9>0,R9/S9,"∞"),"∞") -> 377.86953
A10: bakalminer.com | B10: Baikal | C10: BK | D10: X | F10: Skein | G10: 5 | H10: GH/s | I10: =IFERROR(VLOOKUP(F10,NiceHash!$S$3:$W$33,4,FALSE)*G10,"") | J10: 120 | K10: 0.85 | L10: =IFERROR(J10/K10,J10) -> 141.17647 | M10: =L10*24/1000*EL!$C$12/Prices!$M$2 -> 0.43440577 | N10: bakalminer.com | O10: 43202 | P10: 2700 | Q10: =IF(P10>0,P10*0.25,"") -> 675 | R10: =IFERROR(P10+Q10,"") -> 3375 | S10: =IFERROR(I10-M10,"") | T10: =IFERROR(IF(P10/S10>0,R10/S10,"∞"),"∞") -> ∞
A11: bakalminer.com | B11: Baikal | C11: BK | D11: X | F11: X11 | G11: 10000 | H11: MH/s | I11: =IFERROR(VLOOKUP(F11,NiceHash!$S$3:$W$33,4,FALSE)*G11,"") -> 1.4534154 | J11: 630 | K11: 0.9 | L11: =IFERROR(J11/K11,J11) -> 700 | M11: =L11*24/1000*EL!$C$12/Prices!$M$2 -> 2.1539286 | N11: bakalminer.com | O11: 43202 | P11: 2700 | Q11: =IF(P11>0,P11*0.25,"") -> 675 | R11: =IFERROR(P11+Q11,"") -> 3375 | S11: =IFERROR(I11-M11,"") -> -0.70051322 | T11: =IFERROR(IF(P11/S11>0,R11/S11,"∞"),"∞") -> ∞
A12: bakalminer.com | B12: Baikal | C12: BK | D12: X | F12: X11Gost | G12: 1350 | H12: MH/s | I12: =IFERROR(VLOOKUP(F12,NiceHash!$S$3:$W$33,4,FALSE)*G12,"") -> 11.990677 | J12: 200 | K12: 0.85 | L12: =IFERROR(J12/K12,J12) -> 235.29412 | M12: =L12*24/1000*EL!$C$12/Prices!$M$2 -> 0.72400962 | N12: bakalminer.com | O12: 43202 | P12: 2700 | Q12: =IF(P12>0,P12*0.25,"") -> 675 | R12: =IFERROR(P12+Q12,"") -> 3375 | S12: =IFERROR(I12-M12,"") -> 11.266667 | T12: =IFERROR(IF(P12/S12>0,R12/S12,"∞"),"∞") -> 299.55619
A13: NiceHash | B13: Baikal | C13: Giant | D13: + | F13: Quark | G13: 2000 | H13: MH/s | I13: =IFERROR(VLOOKUP(F13,NiceHash!$S$3:$W$33,4,FALSE)*G13,"") -> 1.1223597 | J13: 430 | K13: 0.85 | L13: =IFERROR(J13/K13,J13) -> 505.88235 | M13: =L13*24/1000*EL!$C$12/Prices!$M$2 -> 1.5566207 | Q13: =IF(P13>0,P13*0.25,"") | R13: =IFERROR(P13+Q13,"") | S13: =IFERROR(I13-M13,"") -> -0.43426102 | T13: =IFERROR(IF(P13/S13>0,R13/S13,"∞"),"∞") -> ∞
A14: NiceHash | B14: Baikal | C14: Giant | D14: + | F14: Qubit | G14: 2000 | H14: MH/s | I14: =IFERROR(VLOOKUP(F14,NiceHash!$S$3:$W$33,4,FALSE)*G14,"") -> 2.0686946 | J14: 430 | K14: 0.85 | L14: =IFERROR(J14/K14,J14) -> 505.88235 | M14: =L14*24/1000*EL!$C$12/Prices!$M$2 -> 1.5566207 | Q14: =IF(P14>0,P14*0.25,"") | R14: =IFERROR(P14+Q14,"") | S14: =IFERROR(I14-M14,"") -> 0.5120739 | T14: =IFERROR(IF(P14/S14>0,R14/S14,"∞"),"∞") -> ∞
A15: NiceHash | B15: Baikal | C15: Giant | D15: + | F15: X11 | G15: 2000 | H15: MH/s | I15: =IFERROR(VLOOKUP(F15,NiceHash!$S$3:$W$33,4,FALSE)*G15,"") -> 0.29068308 | J15: 430 | K15: 0.85 | L15: =IFERROR(J15/K15,J15) -> 505.88235 | M15: =L15*24/1000*EL!$C$12/Prices!$M$2 -> 1.5566207 | Q15: =IF(P15>0,P15*0.25,"") | R15: =IFERROR(P15+Q15,"") | S15: =IFERROR(I15-M15,"") -> -1.2659376 | T15: =IFERROR(IF(P15/S15>0,R15/S15,"∞"),"∞") -> ∞
A16: NiceHash | B16: Baikal | C16: Giant | D16: + | F16: X13 | G16: 1600 | H16: MH/s | I16: =IFERROR(VLOOKUP(F16,NiceHash!$S$3:$W$33,4,FALSE)*G16,"") -> 3.8757744 | J16: 430 | K16: 0.85 | L16: =IFERROR(J16/K16,J16) -> 505.88235 | M16: =L16*24/1000*EL!$C$12/Prices!$M$2 -> 1.5566207 | Q16: =IF(P16>0,P16*0.25,"") | R16: =IFERROR(P16+Q16,"") | S16: =IFERROR(I16-M16,"") -> 2.3191537 | T16: =IFERROR(IF(P16/S16>0,R16/S16,"∞"),"∞") -> ∞
A17: NiceHash | B17: Baikal | C17: Giant | D17: + | F17: X15 | G17: 1600 | H17: MH/s | I17: =IFERROR(VLOOKUP(F17,NiceHash!$S$3:$W$33,4,FALSE)*G17,"") -> 3.8757744 | J17: 430 | K17: 0.85 | L17: =IFERROR(J17/K17,J17) -> 505.88235 | M17: =L17*24/1000*EL!$C$12/Prices!$M$2 -> 1.5566207 | Q17: =IF(P17>0,P17*0.25,"") | R17: =IFERROR(P17+Q17,"") | S17: =IFERROR(I17-M17,"") -> 2.3191537 | T17: =IFERROR(IF(P17/S17>0,R17/S17,"∞"),"∞") -> ∞
A18: bakalminer.com | B18: Baikal | C18: Giant | D18: B | F18: Blake256r14 | G18: 160 | H18: GH/s | I18: =IFERROR(VLOOKUP(F18,NiceHash!$S$3:$W$33,4,FALSE)*G18,"") -> 0 | J18: 410 | K18: 0.85 | L18: =IFERROR(J18/K18,J18) -> 482.35294 | M18: =L18*24/1000*EL!$C$12/Prices!$M$2 -> 1.4842197 | N18: bakalminer.com | O18: 43202 | P18: 1350 | Q18: =IF(P18>0,P18*0.25,"") -> 337.5 | R18: =IFERROR(P18+Q18,"") -> 1687.5 | S18: =IFERROR(I18-M18,"") -> -1.4842197 | T18: =IFERROR(IF(P18/S18>0,R18/S18,"∞"),"∞") -> ∞
A19: bakalminer.com | B19: Baikal | C19: Giant | D19: B | F19: Blake256r8 | G19: 160 | H19: GH/s | I19: =IFERROR(VLOOKUP(F19,NiceHash!$S$3:$W$33,4,FALSE)*G19,"") -> 5.4260842 | J19: 260 | K19: 0.85 | L19: =IFERROR(J19/K19,J19) -> 305.88235 | M19: =L19*24/1000*EL!$C$12/Prices!$M$2 -> 0.94121251 | N19: bakalminer.com | O19: 43202 | P19: 1350 | Q19: =IF(P19>0,P19*0.25,"") -> 337.5 | R19: =IFERROR(P19+Q19,"") -> 1687.5 | S19: =IFERROR(I19-M19,"") -> 4.4848717 | T19: =IFERROR(IF(P19/S19>0,R19/S19,"∞"),"∞") -> 376.26495
A20: bakalminer.com | B20: Baikal | C20: Giant | D20: B | F20: Blake2b(Sia) | G20: 80 | H20: GH/s | I20: =IFERROR(VLOOKUP(F20,NiceHash!$S$3:$W$33,4,FALSE)*G20,"") -> 1.0981361 | J20: 300 | K20: 0.85 | L20: =IFERROR(J20/K20,J20) -> 352.94118 | M20: =L20*24/1000*EL!$C$12/Prices!$M$2 -> 1.0860144 | N20: bakalminer.com | O20: 43202 | P20: 1350 | Q20: =IF(P20>0,P20*0.25,"") -> 337.5 | R20: =IFERROR(P20+Q20,"") -> 1687.5 | S20: =IFERROR(I20-M20,"") -> 0.012121648 | T20: =IFERROR(IF(P20/S20>0,R20/S20,"∞"),"∞") -> 139213.74
A21: bakalminer.com | B21: Baikal | C21: Giant | D21: B | F21: Lbry | G21: 40000 | H21: MH/s | I21: =IFERROR(VLOOKUP(F21,NiceHash!$S$3:$W$33,4,FALSE)*G21,"") -> 10.722976 | J21: 400 | K21: 0.85 | L21: =IFERROR(J21/K21,J21) -> 470.58824 | M21: =L21*24/1000*EL!$C$12/Prices!$M$2 -> 1.4480192 | N21: bakalminer.com | O21: 43202 | P21: 1350 | Q21: =IF(P21>0,P21*0.25,"") -> 337.5 | R21: =IFERROR(P21+Q21,"") -> 1687.5 | S21: =IFERROR(I21-M21,"") -> 9.2749566 | T21: =IFERROR(IF(P21/S21>0,R21/S21,"∞"),"∞") -> 181.94155
A22: bakalminer.com | B22: Baikal | C22: Giant | D22: B | F22: Pascal | G22: 40000 | H22: MH/s | I22: =IFERROR(VLOOKUP(F22,NiceHash!$S$3:$W$33,4,FALSE)*G22,"") -> 10.044715 | J22: 210 | K22: 0.85 | L22: =IFERROR(J22/K22,J22) -> 247.05882 | M22: =L22*24/1000*EL!$C$12/Prices!$M$2 -> 0.7602101 | N22: bakalminer.com | O22: 43202 | P22: 1350 | Q22: =IF(P22>0,P22*0.25,"") -> 337.5 | R22: =IFERROR(P22+Q22,"") -> 1687.5 | S22: =IFERROR(I22-M22,"") -> 9.2845052 | T22: =IFERROR(IF(P22/S22>0,R22/S22,"∞"),"∞") -> 181.75443
A23: bakalminer.com | B23: Baikal | C23: Giant | D23: N | F23: CryptoNight | G23: 20 | H23: kH/s | I23: =IFERROR(VLOOKUP(F23,NiceHash!$S$3:$W$33,4,FALSE)*G23,"") -> 10.48074 | J23: 60 | K23: 0.85 | L23: =IFERROR(J23/K23,J23) -> 70.588235 | M23: =L23*24/1000*EL!$C$12/Prices!$M$2 -> 0.21720289 | N23: bakalminer.com | O23: 43202 | P23: 380 | Q23: =IF(P23>0,P23*0.25,"") -> 95 | R23: =IFERROR(P23+Q23,"") -> 475 | S23: =IFERROR(I23-M23,"") -> 10.263537 | T23: =IFERROR(IF(P23/S23>0,R23/S23,"∞"),"∞") -> 46.280342
A24: NiceHash | B24: Baikal | C24: Giant | D24: X10 | F24: Quark | G24: 10000 | H24: MH/s | I24: =IFERROR(VLOOKUP(F24,NiceHash!$S$3:$W$33,4,FALSE)*G24,"") -> 5.6117983 | J24: 650 | K24: 0.85 | L24: =IFERROR(J24/K24,J24) -> 764.70588 | M24: =L24*24/1000*EL!$C$12/Prices!$M$2 -> 2.3530313 | Q24: =IF(P24>0,P24*0.25,"") | R24: =IFERROR(P24+Q24,"") | S24: =IFERROR(I24-M24,"") -> 3.2587671 | T24: =IFERROR(IF(P24/S24>0,R24/S24,"∞"),"∞") -> ∞
A25: NiceHash | B25: Baikal | C25: Giant | D25: X10 | F25: Qubit | G25: 10000 | H25: MH/s | I25: =IFERROR(VLOOKUP(F25,NiceHash!$S$3:$W$33,4,FALSE)*G25,"") -> 10.343473 | J25: 650 | K25: 0.85 | L25: =IFERROR(J25/K25,J25) -> 764.70588 | M25: =L25*24/1000*EL!$C$12/Prices!$M$2 -> 2.3530313 | Q25: =IF(P25>0,P25*0.25,"") | R25: =IFERROR(P25+Q25,"") | S25: =IFERROR(I25-M25,"") -> 7.9904417 | T25: =IFERROR(IF(P25/S25>0,R25/S25,"∞"),"∞") -> ∞
A26: NiceHash | B26: Baikal | C26: Giant | D26: X10 | F26: X11 | G26: 10000 | H26: MH/s | I26: =IFERROR(VLOOKUP(F26,NiceHash!$S$3:$W$33,4,FALSE)*G26,"") -> 1.4534154 | J26: 650 | K26: 0.85 | L26: =IFERROR(J26/K26,J26) -> 764.70588 | M26: =L26*24/1000*EL!$C$12/Prices!$M$2 -> 2.3530313 | Q26: =IF(P26>0,P26*0.25,"") | R26: =IFERROR(P26+Q26,"") | S26: =IFERROR(I26-M26,"") -> -0.89961587 | T26: =IFERROR(IF(P26/S26>0,R26/S26,"∞"),"∞") -> ∞
A27: NiceHash | B27: Baikal | C27: X11 | D27: Mini Miner | F27: X11 | G27: 150 | H27: MH/s | I27: =IFERROR(VLOOKUP(F27,NiceHash!$S$3:$W$33,4,FALSE)*G27,"") -> 0.021801231 | J27: 40 | K27: 0.85 | L27: =IFERROR(J27/K27,J27) -> 47.058824 | M27: =L27*24/1000*EL!$C$12/Prices!$M$2 -> 0.14480192 | Q27: =IF(P27>0,P27*0.25,"") | R27: =IFERROR(P27+Q27,"") | S27: =IFERROR(I27-M27,"") -> -0.12300069 | T27: =IFERROR(IF(P27/S27>0,R27/S27,"∞"),"∞") -> ∞
A28: NiceHash | B28: Baikal | C28: X11-X13-X14-X15-Qbit-Quark | D28: Mini Miner | F28: Quark | G28: 150 | H28: MH/s | I28: =IFERROR(VLOOKUP(F28,NiceHash!$S$3:$W$33,4,FALSE)*G28,"") -> 0.084176975 | J28: 40 | K28: 0.85 | L28: =IFERROR(J28/K28,J28) -> 47.058824 | M28: =L28*24/1000*EL!$C$12/Prices!$M$2 -> 0.14480192 | Q28: =IF(P28>0,P28*0.25,"") | R28: =IFERROR(P28+Q28,"") | S28: =IFERROR(I28-M28,"") -> -0.060624949 | T28: =IFERROR(IF(P28/S28>0,R28/S28,"∞"),"∞") -> ∞
A29: NiceHash | B29: Baikal | C29: X11-X13-X14-X15-Qbit-Quark | D29: Mini Miner | F29: Qubit | G29: 150 | H29: MH/s | I29: =IFERROR(VLOOKUP(F29,NiceHash!$S$3:$W$33,4,FALSE)*G29,"") -> 0.15515209 | J29: 40 | K29: 0.85 | L29: =IFERROR(J29/K29,J29) -> 47.058824 | M29: =L29*24/1000*EL!$C$12/Prices!$M$2 -> 0.14480192 | Q29: =IF(P29>0,P29*0.25,"") | R29: =IFERROR(P29+Q29,"") | S29: =IFERROR(I29-M29,"") -> 0.01035017 | T29: =IFERROR(IF(P29/S29>0,R29/S29,"∞"),"∞") -> ∞
A30: NiceHash | B30: Baikal | C30: X11-X13-X14-X15-Qbit-Quark | D30: Mini Miner | F30: X11 | G30: 150 | H30: MH/s | I30: =IFERROR(VLOOKUP(F30,NiceHash!$S$3:$W$33,4,FALSE)*G30,"") -> 0.021801231 | J30: 40 | K30: 0.85 | L30: =IFERROR(J30/K30,J30) -> 47.058824 | M30: =L30*24/1000*EL!$C$12/Prices!$M$2 -> 0.14480192 | Q30: =IF(P30>0,P30*0.25,"") | R30: =IFERROR(P30+Q30,"") | S30: =IFERROR(I30-M30,"") -> -0.12300069 | T30: =IFERROR(IF(P30/S30>0,R30/S30,"∞"),"∞") -> ∞
A31: NiceHash | B31: Baikal | C31: X11-X13-X14-X15-Qbit-Quark | D31: Mini Miner | F31: X13 | G31: 150 | H31: MH/s | I31: =IFERROR(VLOOKUP(F31,NiceHash!$S$3:$W$33,4,FALSE)*G31,"") -> 0.36335385 | J31: 40 | K31: 0.85 | L31: =IFERROR(J31/K31,J31) -> 47.058824 | M31: =L31*24/1000*EL!$C$12/Prices!$M$2 -> 0.14480192 | Q31: =IF(P31>0,P31*0.25,"") | R31: =IFERROR(P31+Q31,"") | S31: =IFERROR(I31-M31,"") -> 0.21855193 | T31: =IFERROR(IF(P31/S31>0,R31/S31,"∞"),"∞") -> ∞
A32: NiceHash | B32: Baikal | C32: X11-X13-X14-X15-Qbit-Quark | D32: Mini Miner | F32: X15 | G32: 150 | H32: MH/s | I32: =IFERROR(VLOOKUP(F32,NiceHash!$S$3:$W$33,4,FALSE)*G32,"") -> 0.36335385 | J32: 40 | K32: 0.85 | L32: =IFERROR(J32/K32,J32) -> 47.058824 | M32: =L32*24/1000*EL!$C$12/Prices!$M$2 -> 0.14480192 | Q32: =IF(P32>0,P32*0.25,"") | R32: =IFERROR(P32+Q32,"") | S32: =IFERROR(I32-M32,"") -> 0.21855193 | T32: =IFERROR(IF(P32/S32>0,R32/S32,"∞"),"∞") -> ∞
A33: bitman.com | B33: Bitman | C33: AntMiner | D33: D3 | F33: X11 | G33: 17000 | H33: MH/s | I33: =IFERROR(VLOOKUP(F33,NiceHash!$S$3:$W$33,4,FALSE)*G33,"") -> 2.4708062 | J33: 902 | K33: 0.93 | L33: =IFERROR(J33/K33,J33) -> 969.89247 | M33: =L33*24/1000*EL!$C$12/Prices!$M$2 -> 2.9843988 | N33: bitman.com | O33: 43202 | P33: 311 | Q33: =IF(P33>0,P33*0.25,"") -> 77.75 | R33: =IFERROR(P33+Q33,"") -> 388.75 | S33: =IFERROR(I33-M33,"") -> -0.51359262 | T33: =IFERROR(IF(P33/S33>0,R33/S33,"∞"),"∞") -> ∞
A34: bitman.com | B34: Bitman | C34: AntMiner | D34: E3 | F34: Ethash | G34: 180 | H34: MH/s | I34: =IFERROR(VLOOKUP(F34,NiceHash!$S$3:$W$33,4,FALSE)*G34,"") -> 7.4124185 | J34: 800 | K34: 0.93 | L34: =IFERROR(J34/K34,J34) -> 860.21505 | M34: =L34*24/1000*EL!$C$12/Prices!$M$2 -> 2.6469169 | N34: bitman.com | O34: 43202 | P34: 1800 | Q34: =IF(P34>0,P34*0.25,"") -> 450 | R34: =IFERROR(P34+Q34,"") -> 2250 | S34: =IFERROR(I34-M34,"") -> 4.7655016 | T34: =IFERROR(IF(P34/S34>0,R34/S34,"∞"),"∞") -> 472.14337
A35: bitman.com | B35: Bitman | C35: AntMiner | D35: L3+ | F35: Scrypt | G35: 504 | H35: MH/s | I35: =IFERROR(VLOOKUP(F35,NiceHash!$S$3:$W$33,4,FALSE)*G35,"") -> 4.3975699 | J35: 800 | K35: 0.93 | L35: =IFERROR(J35/K35,J35) -> 860.21505 | M35: =L35*24/1000*EL!$C$12/Prices!$M$2 -> 2.6469169 | N35: bitman.com | O35: 43202 | P35: 462 | Q35: =IF(P35>0,P35*0.25,"") -> 115.5 | R35: =IFERROR(P35+Q35,"") -> 577.5 | S35: =IFERROR(I35-M35,"") -> 1.750653 | T35: =IFERROR(IF(P35/S35>0,R35/S35,"∞"),"∞") -> 329.87691
A36: NiceHash | B36: Bitman | C36: AntMiner | D36: R4 | F36: SHA256 | G36: 8.6 | H36: TH/s | I36: =IFERROR(VLOOKUP(F36,NiceHash!$S$3:$W$33,4,FALSE)*G36,"") -> 4.4858859 | J36: 920 | K36: 0.93 | L36: =IFERROR(J36/K36,J36) -> 989.24731 | M36: =L36*24/1000*EL!$C$12/Prices!$M$2 -> 3.0439544 | Q36: =IF(P36>0,P36*0.25,"") | R36: =IFERROR(P36+Q36,"") | S36: =IFERROR(I36-M36,"") -> 1.4419315 | T36: =IFERROR(IF(P36/S36>0,R36/S36,"∞"),"∞") -> ∞
A37: NiceHash | B37: Bitman | C37: AntMiner | D37: S3 | F37: SHA256 | G37: 0.45 | H37: TH/s | I37: =IFERROR(VLOOKUP(F37,NiceHash!$S$3:$W$33,4,FALSE)*G37,"") -> 0.23472659 | J37: 400 | K37: 0.93 | L37: =IFERROR(J37/K37,J37) -> 430.10753 | M37: =L37*24/1000*EL!$C$12/Prices!$M$2 -> 1.3234584 | Q37: =IF(P37>0,P37*0.25,"") | R37: =IFERROR(P37+Q37,"") | S37: =IFERROR(I37-M37,"") -> -1.0887319 | T37: =IFERROR(IF(P37/S37>0,R37/S37,"∞"),"∞") -> ∞
A38: NiceHash | B38: Bitman | C38: AntMiner | D38: S4 | F38: SHA256 | G38: 2 | H38: TH/s | I38: =IFERROR(VLOOKUP(F38,NiceHash!$S$3:$W$33,4,FALSE)*G38,"") -> 1.0432293 | J38: 1400 | K38: 0.93 | L38: =IFERROR(J38/K38,J38) -> 1505.3763 | M38: =L38*24/1000*EL!$C$12/Prices!$M$2 -> 4.6321046 | Q38: =IF(P38>0,P38*0.25,"") | R38: =IFERROR(P38+Q38,"") | S38: =IFERROR(I38-M38,"") -> -3.5888753 | T38: =IFERROR(IF(P38/S38>0,R38/S38,"∞"),"∞") -> ∞
A39: NiceHash | B39: Bitman | C39: AntMiner | D39: S5 | F39: SHA256 | G39: 1.15 | H39: TH/s | I39: =IFERROR(VLOOKUP(F39,NiceHash!$S$3:$W$33,4,FALSE)*G39,"") -> 0.59985683 | J39: 590 | K39: 0.93 | L39: =IFERROR(J39/K39,J39) -> 634.4086 | M39: =L39*24/1000*EL!$C$12/Prices!$M$2 -> 1.9521012 | Q39: =IF(P39>0,P39*0.25,"") | R39: =IFERROR(P39+Q39,"") | S39: =IFERROR(I39-M39,"") -> -1.3522444 | T39: =IFERROR(IF(P39/S39>0,R39/S39,"∞"),"∞") -> ∞
A40: NiceHash | B40: Bitman | C40: AntMiner | D40: S7 | E40: LN | F40: SHA256 | G40: 2.7 | H40: TH/s | I40: =IFERROR(VLOOKUP(F40,NiceHash!$S$3:$W$33,4,FALSE)*G40,"") -> 1.4083595 | J40: 697 | K40: 0.93 | L40: =IFERROR(J40/K40,J40) -> 749.46237 | M40: =L40*24/1000*EL!$C$12/Prices!$M$2 -> 2.3061263 | Q40: =IF(P40>0,P40*0.25,"") | R40: =IFERROR(P40+Q40,"") | S40: =IFERROR(I40-M40,"") -> -0.89776682 | T40: =IFERROR(IF(P40/S40>0,R40/S40,"∞"),"∞") -> ∞
A41: NiceHash | B41: Bitman | C41: AntMiner | D41: S7 | F41: SHA256 | G41: 4.73 | H41: TH/s | I41: =IFERROR(VLOOKUP(F41,NiceHash!$S$3:$W$33,4,FALSE)*G41,"") -> 2.4672372 | J41: 1293 | K41: 0.93 | L41: =IFERROR(J41/K41,J41) -> 1390.3226 | M41: =L41*24/1000*EL!$C$12/Prices!$M$2 -> 4.2780794 | Q41: =IF(P41>0,P41*0.25,"") | R41: =IFERROR(P41+Q41,"") | S41: =IFERROR(I41-M41,"") -> -1.8108422 | T41: =IFERROR(IF(P41/S41>0,R41/S41,"∞"),"∞") -> ∞
A42: bitman.com | B42: Bitman | C42: AntMiner | D42: S9 | E42: 13.0 TH/s | F42: SHA256 | G42: 13 | H42: TH/s | I42: =IFERROR(VLOOKUP(F42,NiceHash!$S$3:$W$33,4,FALSE)*G42,"") -> 6.7809903 | J42: 1300 | K42: 0.93 | L42: =IFERROR(J42/K42,J42) -> 1397.8495 | M42: =L42*24/1000*EL!$C$12/Prices!$M$2 -> 4.30124 | N42: bitman.com | O42: 43202 | P42: 1104 | Q42: =IF(P42>0,P42*0.25,"") -> 276 | R42: =IFERROR(P42+Q42,"") -> 1380 | S42: =IFERROR(I42-M42,"") -> 2.4797503 | T42: =IFERROR(IF(P42/S42>0,R42/S42,"∞"),"∞") -> 556.50764
A43: bitman.com | B43: Bitman | C43: AntMiner | D43: S9 | E43: 13.5 TH/s | F43: SHA256 | G43: 13.5 | H43: TH/s | I43: =IFERROR(VLOOKUP(F43,NiceHash!$S$3:$W$33,4,FALSE)*G43,"") -> 7.0417976 | J43: 1320 | K43: 0.93 | L43: =IFERROR(J43/K43,J43) -> 1419.3548 | M43: =L43*24/1000*EL!$C$12/Prices!$M$2 -> 4.3674129 | N43: bitman.com | O43: 43202 | P43: 1146 | Q43: =IF(P43>0,P43*0.25,"") -> 286.5 | R43: =IFERROR(P43+Q43,"") -> 1432.5 | S43: =IFERROR(I43-M43,"") -> 2.6743847 | T43: =IFERROR(IF(P43/S43>0,R43/S43,"∞"),"∞") -> 535.63722
A44: bitman.com | B44: Bitman | C44: AntMiner | D44: S9 | E44: 14.0 TH/s | F44: SHA256 | G44: 14 | H44: TH/s | I44: =IFERROR(VLOOKUP(F44,NiceHash!$S$3:$W$33,4,FALSE)*G44,"") -> 7.3026049 | J44: 1340 | K44: 0.93 | L44: =IFERROR(J44/K44,J44) -> 1440.8602 | M44: =L44*24/1000*EL!$C$12/Prices!$M$2 -> 4.4335858 | N44: bitman.com | O44: 43202 | P44: 1312 | Q44: =IF(P44>0,P44*0.25,"") -> 328 | R44: =IFERROR(P44+Q44,"") -> 1640 | S44: =IFERROR(I44-M44,"") -> 2.8690191 | T44: =IFERROR(IF(P44/S44>0,R44/S44,"∞"),"∞") -> 571.62393
A45: bitman.com | B45: Bitman | C45: AntMiner | D45: T9+ | E45: 10.5 TH/s | F45: SHA256 | G45: 10.5 | H45: TH/s | I45: =IFERROR(VLOOKUP(F45,NiceHash!$S$3:$W$33,4,FALSE)*G45,"") -> 5.4769537 | J45: 1332 | K45: 0.93 | L45: =IFERROR(J45/K45,J45) -> 1432.2581 | M45: =L45*24/1000*EL!$C$12/Prices!$M$2 -> 4.4071166 | N45: bitman.com | O45: 43202 | P45: 738 | Q45: =IF(P45>0,P45*0.25,"") -> 184.5 | R45: =IFERROR(P45+Q45,"") -> 922.5 | S45: =IFERROR(I45-M45,"") -> 1.0698371 | T45: =IFERROR(IF(P45/S45>0,R45/S45,"∞"),"∞") -> 862.28083
A46: NiceHash | B46: Bitman | C46: AntMiner | D46: U3 | F46: SHA256 | G46: 0.04 | H46: TH/s | I46: =IFERROR(VLOOKUP(F46,NiceHash!$S$3:$W$33,4,FALSE)*G46,"") -> 0.020864586 | J46: 50 | K46: 0.85 | L46: =IFERROR(J46/K46,J46) -> 58.823529 | M46: =L46*24/1000*EL!$C$12/Prices!$M$2 -> 0.18100241 | Q46: =IF(P46>0,P46*0.25,"") | R46: =IFERROR(P46+Q46,"") | S46: =IFERROR(I46-M46,"") -> -0.16013782 | T46: =IFERROR(IF(P46/S46>0,R46/S46,"∞"),"∞") -> ∞
A47: bitman.com | B47: Bitman | C47: AntMiner | D47: V9 | F47: SHA256 | G47: 4 | H47: TH/s | I47: =IFERROR(VLOOKUP(F47,NiceHash!$S$3:$W$33,4,FALSE)*G47,"") -> 2.0864586 | J47: 955 | K47: 0.93 | L47: =IFERROR(J47/K47,J47) -> 1026.8817 | M47: =L47*24/1000*EL!$C$12/Prices!$M$2 -> 3.159757 | N47: bitman.com | O47: 43202 | P47: 190 | Q47: =IF(P47>0,P47*0.25,"") -> 47.5 | R47: =IFERROR(P47+Q47,"") -> 237.5 | S47: =IFERROR(I47-M47,"") -> -1.0732985 | T47: =IFERROR(IF(P47/S47>0,R47/S47,"∞"),"∞") -> ∞
A48: bitman.com | B48: Bitman | C48: AntMiner | D48: X3 | F48: CryptoNight | G48: 220 | H48: kH/s | I48: =IFERROR(VLOOKUP(F48,NiceHash!$S$3:$W$33,4,FALSE)*G48,"") -> 115.28814 | J48: 465 | K48: 0.93 | L48: =IFERROR(J48/K48,J48) -> 500 | M48: =L48*24/1000*EL!$C$12/Prices!$M$2 -> 1.5385204 | N48: bitman.com | O48: 43202 | P48: 1990 | Q48: =IF(P48>0,P48*0.25,"") -> 497.5 | R48: =IFERROR(P48+Q48,"") -> 2487.5 | S48: =IFERROR(I48-M48,"") -> 113.74962 | T48: =IFERROR(IF(P48/S48>0,R48/S48,"∞"),"∞") -> 21.868205
A49: NiceHash | B49: Canaan | C49: Creative Avalon | D49: 6 | F49: SHA256 | G49: 3.5 | H49: TH/s | I49: =IFERROR(VLOOKUP(F49,NiceHash!$S$3:$W$33,4,FALSE)*G49,"") -> 1.8256512 | J49: 1050 | K49: 0.85 | L49: =IFERROR(J49/K49,J49) -> 1235.2941 | M49: =L49*24/1000*EL!$C$12/Prices!$M$2 -> 3.8010505 | Q49: =IF(P49>0,P49*0.25,"") | R49: =IFERROR(P49+Q49,"") | S49: =IFERROR(I49-M49,"") -> -1.9753993 | T49: =IFERROR(IF(P49/S49>0,R49/S49,"∞"),"∞") -> ∞
A50: NiceHash | B50: Canaan | C50: Creative Avalon | D50: 7 | F50: SHA256 | G50: 7.3 | H50: TH/s | I50: =IFERROR(VLOOKUP(F50,NiceHash!$S$3:$W$33,4,FALSE)*G50,"") -> 3.8077869 | J50: 1150 | K50: 0.85 | L50: =IFERROR(J50/K50,J50) -> 1352.9412 | M50: =L50*24/1000*EL!$C$12/Prices!$M$2 -> 4.1630553 | Q50: =IF(P50>0,P50*0.25,"") | R50: =IFERROR(P50+Q50,"") | S50: =IFERROR(I50-M50,"") -> -0.35526846 | T50: =IFERROR(IF(P50/S50>0,R50/S50,"∞"),"∞") -> ∞
A51: NiceHash | B51: GekkoScience | C51: USB Stick Minner | D51: BM1384 | E51: 2PAC | F51: SHA256 | G51: 0.025 | H51: TH/s | I51: =IFERROR(VLOOKUP(F51,NiceHash!$S$3:$W$33,4,FALSE)*G51,"") -> 0.013040366 | J51: 10 | K51: 0.85 | L51: =IFERROR(J51/K51,J51) -> 11.764706 | M51: =L51*24/1000*EL!$C$12/Prices!$M$2 -> 0.036200481 | Q51: =IF(P51>0,P51*0.25,"") | R51: =IFERROR(P51+Q51,"") | S51: =IFERROR(I51-M51,"") -> -0.023160115 | T51: =IFERROR(IF(P51/S51>0,R51/S51,"∞"),"∞") -> ∞
A52: NiceHash | B52: Gridseed | C52: Blade | E52: 2.5 MHz | F52: Scrypt | G52: 2.5 | H52: MH/s | I52: =IFERROR(VLOOKUP(F52,NiceHash!$S$3:$W$33,4,FALSE)*G52,"") -> 0.021813343 | J52: 50 | K52: 0.85 | L52: =IFERROR(J52/K52,J52) -> 58.823529 | M52: =L52*24/1000*EL!$C$12/Prices!$M$2 -> 0.18100241 | Q52: =IF(P52>0,P52*0.25,"") | R52: =IFERROR(P52+Q52,"") | S52: =IFERROR(I52-M52,"") -> -0.15918906 | T52: =IFERROR(IF(P52/S52>0,R52/S52,"∞"),"∞") -> ∞
A53: halongmining.com | B53: Halong Mining | C53: DragonMint | D53: B29 | F53: Blake256(Decred) | G53: 2100 | H53: GH/s | I53: =IFERROR(VLOOKUP(F53,NiceHash!$S$3:$W$33,4,FALSE)*G53,"") -> 127.17385 | J53: 900 | K53: 0.85 | L53: =IFERROR(J53/K53,J53) -> 1058.8235 | M53: =L53*24/1000*EL!$C$12/Prices!$M$2 -> 3.2580433 | Q53: =IF(P53>0,P53*0.25,"") | R53: =IFERROR(P53+Q53,"") | S53: =IFERROR(I53-M53,"") -> 123.9158 | T53: =IFERROR(IF(P53/S53>0,R53/S53,"∞"),"∞") -> ∞
A54: halongmining.com | B54: Halong Mining | C54: DragonMint | D54: B52 | F54: Blake2b(Sia) | G54: 3830 | H54: GH/s | I54: =IFERROR(VLOOKUP(F54,NiceHash!$S$3:$W$33,4,FALSE)*G54,"") -> 52.573265 | J54: 1380 | K54: 0.85 | L54: =IFERROR(J54/K54,J54) -> 1623.5294 | M54: =L54*24/1000*EL!$C$12/Prices!$M$2 -> 4.9956664 | Q54: =IF(P54>0,P54*0.25,"") | R54: =IFERROR(P54+Q54,"") | S54: =IFERROR(I54-M54,"") -> 47.577598 | T54: =IFERROR(IF(P54/S54>0,R54/S54,"∞"),"∞") -> ∞
A55: halongmining.com | B55: Halong Mining | C55: DragonMint | D55: T1 | F55: SHA256 | G55: 16 | H55: TH/s | I55: =IFERROR(VLOOKUP(F55,NiceHash!$S$3:$W$33,4,FALSE)*G55,"") -> 8.3458342 | J55: 1480 | K55: 0.85 | L55: =IFERROR(J55/K55,J55) -> 1741.1765 | M55: =L55*24/1000*EL!$C$12/Prices!$M$2 -> 5.3576712 | Q55: =IF(P55>0,P55*0.25,"") | R55: =IFERROR(P55+Q55,"") | S55: =IFERROR(I55-M55,"") -> 2.988163 | T55: =IFERROR(IF(P55/S55>0,R55/S55,"∞"),"∞") -> ∞
A56: halongmining.com | B56: Halong Mining | C56: DragonMint | D56: X1 | F56: CryptoNight | G56: 124 | H56: kH/s | I56: =IFERROR(VLOOKUP(F56,NiceHash!$S$3:$W$33,4,FALSE)*G56,"") -> 64.980588 | J56: 245 | K56: 0.85 | L56: =IFERROR(J56/K56,J56) -> 288.23529 | M56: =L56*24/1000*EL!$C$12/Prices!$M$2 -> 0.88691179 | Q56: =IF(P56>0,P56*0.25,"") | R56: =IFERROR(P56+Q56,"") | S56: =IFERROR(I56-M56,"") -> 64.093676 | T56: =IFERROR(IF(P56/S56>0,R56/S56,"∞"),"∞") -> ∞ | U56: Няма налични. Първи експедиции през Април 2018.
A57: halongmining.com | B57: Halong Mining | C57: DragonMint | D57: X2 | F57: CryptoNight | G57: 248 | H57: kH/s | I57: =IFERROR(VLOOKUP(F57,NiceHash!$S$3:$W$33,4,FALSE)*G57,"") -> 129.96118 | J57: 490 | K57: 0.85 | L57: =IFERROR(J57/K57,J57) -> 576.47059 | M57: =L57*24/1000*EL!$C$12/Prices!$M$2 -> 1.7738236 | Q57: =IF(P57>0,P57*0.25,"") | R57: =IFERROR(P57+Q57,"") | S57: =IFERROR(I57-M57,"") -> 128.18735 | T57: =IFERROR(IF(P57/S57>0,R57/S57,"∞"),"∞") -> ∞
A58: NiceHash | B58: iBeLink | D58: DM22G | F58: X11 | G58: 22000 | H58: MH/s | I58: =IFERROR(VLOOKUP(F58,NiceHash!$S$3:$W$33,4,FALSE)*G58,"") -> 3.1975139 | J58: 810 | K58: 0.85 | L58: =IFERROR(J58/K58,J58) -> 952.94118 | M58: =L58*24/1000*EL!$C$12/Prices!$M$2 -> 2.932239 | Q58: =IF(P58>0,P58*0.25,"") | R58: =IFERROR(P58+Q58,"") | S58: =IFERROR(I58-M58,"") -> 0.26527491 | T58: =IFERROR(IF(P58/S58>0,R58/S58,"∞"),"∞") -> ∞
A59: NiceHash | B59: iBeLink | D59: DM384M | F59: X11 | G59: 384 | H59: MH/s | I59: =IFERROR(VLOOKUP(F59,NiceHash!$S$3:$W$33,4,FALSE)*G59,"") -> 0.055811151 | J59: 720 | K59: 0.85 | L59: =IFERROR(J59/K59,J59) -> 847.05882 | M59: =L59*24/1000*EL!$C$12/Prices!$M$2 -> 2.6064346 | Q59: =IF(P59>0,P59*0.25,"") | R59: =IFERROR(P59+Q59,"") | S59: =IFERROR(I59-M59,"") -> -2.5506235 | T59: =IFERROR(IF(P59/S59>0,R59/S59,"∞"),"∞") -> ∞
A60: NiceHash | B60: InnoSilicon | D60: A2 | E60: Terminator | F60: Scrypt | G60: 110 | H60: MH/s | I60: =IFERROR(VLOOKUP(F60,NiceHash!$S$3:$W$33,4,FALSE)*G60,"") -> 0.95978708 | J60: 1100 | K60: 0.93 | L60: =IFERROR(J60/K60,J60) -> 1182.7957 | M60: =L60*24/1000*EL!$C$12/Prices!$M$2 -> 3.6395107 | Q60: =IF(P60>0,P60*0.25,"") | R60: =IFERROR(P60+Q60,"") | S60: =IFERROR(I60-M60,"") -> -2.6797236 | T60: =IFERROR(IF(P60/S60>0,R60/S60,"∞"),"∞") -> ∞
A61: NiceHash | B61: InnoSilicon | D61: A4 | E61: LTCMaster | F61: Scrypt | G61: 280 | H61: MH/s | I61: =IFERROR(VLOOKUP(F61,NiceHash!$S$3:$W$33,4,FALSE)*G61,"") -> 2.4430944 | J61: 1000 | K61: 0.93 | L61: =IFERROR(J61/K61,J61) -> 1075.2688 | M61: =L61*24/1000*EL!$C$12/Prices!$M$2 -> 3.3086461 | Q61: =IF(P61>0,P61*0.25,"") | R61: =IFERROR(P61+Q61,"") | S61: =IFERROR(I61-M61,"") -> -0.86555173 | T61: =IFERROR(IF(P61/S61>0,R61/S61,"∞"),"∞") -> ∞
A62: innosilicon.com | B62: InnoSilicon | D62: A4+ | E62: LTCMaster | F62: Scrypt | G62: 620 | H62: MH/s | I62: =IFERROR(VLOOKUP(F62,NiceHash!$S$3:$W$33,4,FALSE)*G62,"") -> 5.409709 | J62: 750 | K62: 0.93 | L62: =IFERROR(J62/K62,J62) -> 806.45161 | M62: =L62*24/1000*EL!$C$12/Prices!$M$2 -> 2.4814846 | N62: innosilicon.com | O62: 43202 | P62: 1500 | Q62: =IF(P62>0,P62*0.25,"") -> 375 | R62: =IFERROR(P62+Q62,"") -> 1875 | S62: =IFERROR(I62-M62,"") -> 2.9282244 | T62: =IFERROR(IF(P62/S62>0,R62/S62,"∞"),"∞") -> 640.31977
A63: innosilicon.com | B63: InnoSilicon | D63: A5 | E63: DashMaster | F63: X11 | G63: 32500 | H63: MH/s | I63: =IFERROR(VLOOKUP(F63,NiceHash!$S$3:$W$33,4,FALSE)*G63,"") -> 4.7236 | J63: 750 | K63: 0.93 | L63: =IFERROR(J63/K63,J63) -> 806.45161 | M63: =L63*24/1000*EL!$C$12/Prices!$M$2 -> 2.4814846 | N63: innosilicon.com | O63: 43202 | P63: 1180 | Q63: =IF(P63>0,P63*0.25,"") -> 295 | R63: =IFERROR(P63+Q63,"") -> 1475 | S63: =IFERROR(I63-M63,"") -> 2.2421155 | T63: =IFERROR(IF(P63/S63>0,R63/S63,"∞"),"∞") -> 657.86086
A64: innosilicon.com | B64: InnoSilicon | D64: A5+ | E64: DashMaster | F64: X11 | G64: 65000 | H64: MH/s | I64: =IFERROR(VLOOKUP(F64,NiceHash!$S$3:$W$33,4,FALSE)*G64,"") -> 9.4472001 | J64: 1500 | K64: 0.93 | L64: =IFERROR(J64/K64,J64) -> 1612.9032 | M64: =L64*24/1000*EL!$C$12/Prices!$M$2 -> 4.9629692 | N64: innosilicon.com | O64: 43202 | P64: 2360 | Q64: =IF(P64>0,P64*0.25,"") -> 590 | R64: =IFERROR(P64+Q64,"") -> 2950 | S64: =IFERROR(I64-M64,"") -> 4.4842309 | T64: =IFERROR(IF(P64/S64>0,R64/S64,"∞"),"∞") -> 657.86086
A65: innosilicon.com | B65: InnoSilicon | D65: A6 | E65: LTCMaster | F65: Scrypt | G65: 1230 | H65: MH/s | I65: =IFERROR(VLOOKUP(F65,NiceHash!$S$3:$W$33,4,FALSE)*G65,"") -> 10.732165 | J65: 1500 | K65: 0.93 | L65: =IFERROR(J65/K65,J65) -> 1612.9032 | M65: =L65*24/1000*EL!$C$12/Prices!$M$2 -> 4.9629692 | N65: innosilicon.com | O65: 43202 | P65: 3000 | Q65: =IF(P65>0,P65*0.25,"") -> 750 | R65: =IFERROR(P65+Q65,"") -> 3750 | S65: =IFERROR(I65-M65,"") -> 5.7691955 | T65: =IFERROR(IF(P65/S65>0,R65/S65,"∞"),"∞") -> 650.00398
A66: innosilicon.com | B66: InnoSilicon | D66: A8 | E66: CryptoNight | F66: CryptoNight | G66: 160 | H66: kH/s | I66: =IFERROR(VLOOKUP(F66,NiceHash!$S$3:$W$33,4,FALSE)*G66,"") -> 83.84592 | J66: 350 | K66: 0.93 | L66: =IFERROR(J66/K66,J66) -> 376.34409 | M66: =L66*24/1000*EL!$C$12/Prices!$M$2 -> 1.1580261 | Q66: =IF(P66>0,P66*0.25,"") | R66: =IFERROR(P66+Q66,"") | S66: =IFERROR(I66-M66,"") -> 82.687893 | T66: =IFERROR(IF(P66/S66>0,R66/S66,"∞"),"∞") -> ∞
A67: NiceHash | B67: LKETC | C67: Dragon Miner | E67: 1 TH/s | F67: SHA256 | G67: 1 | H67: TH/s | I67: =IFERROR(VLOOKUP(F67,NiceHash!$S$3:$W$33,4,FALSE)*G67,"") -> 0.52161464 | J67: 100 | K67: 0.85 | L67: =IFERROR(J67/K67,J67) -> 117.64706 | M67: =L67*24/1000*EL!$C$12/Prices!$M$2 -> 0.36200481 | Q67: =IF(P67>0,P67*0.25,"") | R67: =IFERROR(P67+Q67,"") | S67: =IFERROR(I67-M67,"") -> 0.15960983 | T67: =IFERROR(IF(P67/S67>0,R67/S67,"∞"),"∞") -> ∞
A68: obelisk.tech | B68: Obelisk | D68: DCR1 | F68: Blake256(Decred) | G68: 1500 | H68: GH/s | I68: =IFERROR(VLOOKUP(F68,NiceHash!$S$3:$W$33,4,FALSE)*G68,"") -> 90.838462 | J68: 500 | K68: 0.93 | L68: =IFERROR(J68/K68,J68) -> 537.63441 | M68: =L68*24/1000*EL!$C$12/Prices!$M$2 -> 1.6543231 | N68: obelisk.tech | O68: 43202 | P68: 1999 | Q68: =IF(P68>0,P68*0.25,"") -> 499.75 | R68: =IFERROR(P68+Q68,"") -> 2498.75 | S68: =IFERROR(I68-M68,"") -> 89.184139 | T68: =IFERROR(IF(P68/S68>0,R68/S68,"∞"),"∞") -> 28.017874
A69: obelisk.tech | B69: Obelisk | D69: SC1 | F69: Blake2b(Sia) | G69: 800 | H69: GH/s | I69: =IFERROR(VLOOKUP(F69,NiceHash!$S$3:$W$33,4,FALSE)*G69,"") -> 10.981361 | J69: 500 | K69: 0.93 | L69: =IFERROR(J69/K69,J69) -> 537.63441 | M69: =L69*24/1000*EL!$C$12/Prices!$M$2 -> 1.6543231 | N69: obelisk.tech | O69: 43202 | P69: 1699 | Q69: =IF(P69>0,P69*0.25,"") -> 424.75 | R69: =IFERROR(P69+Q69,"") -> 2123.75 | S69: =IFERROR(I69-M69,"") -> 9.3270377 | T69: =IFERROR(IF(P69/S69>0,R69/S69,"∞"),"∞") -> 227.69823
A70: pinidea.io | B70: PinIdea | C70: CryptoNight Miner | D70: RR-200 | F70: CryptoNight | G70: 27 | H70: kH/s | I70: =IFERROR(VLOOKUP(F70,NiceHash!$S$3:$W$33,4,FALSE)*G70,"") -> 14.148999 | J70: 350 | K70: 0.85 | L70: =IFERROR(J70/K70,J70) -> 411.76471 | M70: =L70*24/1000*EL!$C$12/Prices!$M$2 -> 1.2670168 | N70: pinidea.io | O70: 43202 | P70: =0.17679889*Prices!J2 -> 1427.5679 | Q70: =IF(P70>0,P70*0.25,"") -> 356.89199 | R70: =IFERROR(P70+Q70,"") -> 1784.4599 | S70: =IFERROR(I70-M70,"") -> 12.881982 | T70: =IFERROR(IF(P70/S70>0,R70/S70,"∞"),"∞") -> 138.52371 | U70: Out of stock
A71: pinidea.io | B71: PinIdea | C71: X11 Miner | D71: DR-1 | F71: X11 | G71: 500 | H71: MH/s | I71: =IFERROR(VLOOKUP(F71,NiceHash!$S$3:$W$33,4,FALSE)*G71,"") -> 0.07267077 | J71: 320 | K71: 0.85 | L71: =IFERROR(J71/K71,J71) -> 376.47059 | M71: =L71*24/1000*EL!$C$12/Prices!$M$2 -> 1.1584154 | N71: pinidea.io | O71: 43202 | P71: =0.23860605*Prices!J2 -> 1926.6317 | Q71: =IF(P71>0,P71*0.25,"") -> 481.65793 | R71: =IFERROR(P71+Q71,"") -> 2408.2896 | S71: =IFERROR(I71-M71,"") -> -1.0857446 | T71: =IFERROR(IF(P71/S71>0,R71/S71,"∞"),"∞") -> ∞ | U71: Out of stock
A72: pinidea.io | B72: PinIdea | C72: X11 Miner | D72: DR-100 | E72: Pro | F72: X11 | G72: 21000 | H72: MH/s | I72: =IFERROR(VLOOKUP(F72,NiceHash!$S$3:$W$33,4,FALSE)*G72,"") -> 3.0521723 | J72: 900 | K72: 0.85 | L72: =IFERROR(J72/K72,J72) -> 1058.8235 | M72: =L72*24/1000*EL!$C$12/Prices!$M$2 -> 3.2580433 | N72: pinidea.io | O72: 43202 | P72: =0.0661421*Prices!J2 -> 534.06637 | Q72: =IF(P72>0,P72*0.25,"") -> 133.51659 | R72: =IFERROR(P72+Q72,"") -> 667.58296 | S72: =IFERROR(I72-M72,"") -> -0.20587096 | T72: =IFERROR(IF(P72/S72>0,R72/S72,"∞"),"∞") -> ∞
A73: pinidea.io | B73: PinIdea | C73: X11 Miner | D73: DR-100 | F73: X11 | G73: 19000 | H73: MH/s | I73: =IFERROR(VLOOKUP(F73,NiceHash!$S$3:$W$33,4,FALSE)*G73,"") -> 2.7614893 | J73: 900 | K73: 0.85 | L73: =IFERROR(J73/K73,J73) -> 1058.8235 | M73: =L73*24/1000*EL!$C$12/Prices!$M$2 -> 3.2580433 | N73: pinidea.io | O73: 43202 | P73: =0.08397947*Prices!J2 -> 678.09475 | Q73: =IF(P73>0,P73*0.25,"") -> 169.52369 | R73: =IFERROR(P73+Q73,"") -> 847.61844 | S73: =IFERROR(I73-M73,"") -> -0.49655404 | T73: =IFERROR(IF(P73/S73>0,R73/S73,"∞"),"∞") -> ∞ | U73: Out of stock
A74: pinidea.io | B74: PinIdea | C74: X11 Miner | D74: DR2 | F74: X11 | G74: 450 | H74: MH/s | I74: =IFERROR(VLOOKUP(F74,NiceHash!$S$3:$W$33,4,FALSE)*G74,"") -> 0.065403693 | J74: 335 | K74: 0.85 | L74: =IFERROR(J74/K74,J74) -> 394.11765 | M74: =L74*24/1000*EL!$C$12/Prices!$M$2 -> 1.2127161 | N74: pinidea.io | O74: 43202 | P74: =0.03579091*Prices!J2 -> 288.99478 | Q74: =IF(P74>0,P74*0.25,"") -> 72.248694 | R74: =IFERROR(P74+Q74,"") -> 361.24347 | S74: =IFERROR(I74-M74,"") -> -1.1473124 | T74: =IFERROR(IF(P74/S74>0,R74/S74,"∞"),"∞") -> ∞ | U74: Out of stock
A75: pinidea.io | B75: PinIdea | C75: X11 Miner | D75: DR3 | F75: X11 | G75: 600 | H75: MH/s | I75: =IFERROR(VLOOKUP(F75,NiceHash!$S$3:$W$33,4,FALSE)*G75,"") -> 0.087204924 | J75: 345 | K75: 0.85 | L75: =IFERROR(J75/K75,J75) -> 405.88235 | M75: =L75*24/1000*EL!$C$12/Prices!$M$2 -> 1.2489166 | N75: pinidea.io | O75: 43202 | P75: =0.03174821*Prices!J2 -> 256.35187 | Q75: =IF(P75>0,P75*0.25,"") -> 64.087969 | R75: =IFERROR(P75+Q75,"") -> 320.43984 | S75: =IFERROR(I75-M75,"") -> -1.1617117 | T75: =IFERROR(IF(P75/S75>0,R75/S75,"∞"),"∞") -> ∞ | U75: Out of stock
A76: pinidea.io | B76: PinIdea | C76: X11 Miner | D76: DRX | E76: Kuznetsov | F76: X11 | G76: 900 | H76: MH/s | I76: =IFERROR(VLOOKUP(F76,NiceHash!$S$3:$W$33,4,FALSE)*G76,"") -> 0.13080739 | J76: 650 | K76: 0.85 | L76: =IFERROR(J76/K76,J76) -> 764.70588 | M76: =L76*24/1000*EL!$C$12/Prices!$M$2 -> 2.3530313 | N76: pinidea.io | O76: 43202 | P76: =0.04850421*Prices!J2 -> 391.6487 | Q76: =IF(P76>0,P76*0.25,"") -> 97.912175 | R76: =IFERROR(P76+Q76,"") -> 489.56087 | S76: =IFERROR(I76-M76,"") -> -2.2222239 | T76: =IFERROR(IF(P76/S76>0,R76/S76,"∞"),"∞") -> ∞ | U76: Out of stock
A77: pinidea.io | B77: PinIdea | C77: X11 Miner | D77: DRX | E77: Varyag | F77: X11 | G77: 1200 | H77: MH/s | I77: =IFERROR(VLOOKUP(F77,NiceHash!$S$3:$W$33,4,FALSE)*G77,"") -> 0.17440985 | J77: 850 | K77: 0.85 | L77: =IFERROR(J77/K77,J77) -> 1000 | M77: =L77*24/1000*EL!$C$12/Prices!$M$2 -> 3.0770409 | N77: pinidea.io | O77: 43202 | P77: =0.06173263*Prices!J2 -> 498.46197 | Q77: =IF(P77>0,P77*0.25,"") -> 124.61549 | R77: =IFERROR(P77+Q77,"") -> 623.07747 | S77: =IFERROR(I77-M77,"") -> -2.902631 | T77: =IFERROR(IF(P77/S77>0,R77/S77,"∞"),"∞") -> ∞ | U77: Out of stock
I78: =IFERROR(VLOOKUP(F78,NiceHash!$S$3:$W$33,4,FALSE)*G78,"") | L78: =IFERROR(J78/K78,J78) -> 0 | M78: =L78*24/1000*EL!$C$12/Prices!$M$2 -> 0 | Q78: =IF(P78>0,P78*0.25,"") | R78: =IFERROR(P78+Q78,"") | S78: =IFERROR(I78-M78,"") | T78: =IFERROR(IF(P78/S78>0,R78/S78,"∞"),"∞") -> ∞
I79: =IFERROR(VLOOKUP(F79,NiceHash!$S$3:$W$33,4,FALSE)*G79,"") | L79: =IFERROR(J79/K79,J79) -> 0 | M79: =L79*24/1000*EL!$C$12/Prices!$M$2 -> 0 | Q79: =IF(P79>0,P79*0.25,"") | R79: =IFERROR(P79+Q79,"") | S79: =IFERROR(I79-M79,"") | T79: =IFERROR(IF(P79/S79>0,R79/S79,"∞"),"∞") -> ∞
I80: =IFERROR(VLOOKUP(F80,NiceHash!$S$3:$W$33,4,FALSE)*G80,"") | L80: =IFERROR(J80/K80,J80) -> 0 | M80: =L80*24/1000*EL!$C$12/Prices!$M$2 -> 0 | Q80: =IF(P80>0,P80*0.25,"") | R80: =IFERROR(P80+Q80,"") | S80: =IFERROR(I80-M80,"") | T80: =IFERROR(IF(P80/S80>0,R80/S80,"∞"),"∞") -> ∞
I81: =IFERROR(VLOOKUP(F81,NiceHash!$S$3:$W$33,4,FALSE)*G81,"") | L81: =IFERROR(J81/K81,J81) -> 0 | M81: =L81*24/1000*EL!$C$12/Prices!$M$2 -> 0 | Q81: =IF(P81>0,P81*0.25,"") | R81: =IFERROR(P81+Q81,"") | S81: =IFERROR(I81-M81,"") | T81: =IFERROR(IF(P81/S81>0,R81/S81,"∞"),"∞") -> ∞
I82: =IFERROR(VLOOKUP(F82,NiceHash!$S$3:$W$33,4,FALSE)*G82,"") | L82: =IFERROR(J82/K82,J82) -> 0 | M82: =L82*24/1000*EL!$C$12/Prices!$M$2 -> 0 | Q82: =IF(P82>0,P82*0.25,"") | R82: =IFERROR(P82+Q82,"") | S82: =IFERROR(I82-M82,"") | T82: =IFERROR(IF(P82/S82>0,R82/S82,"∞"),"∞") -> ∞
I83: =IFERROR(VLOOKUP(F83,NiceHash!$S$3:$W$33,4,FALSE)*G83,"") | L83: =IFERROR(J83/K83,J83) -> 0 | M83: =L83*24/1000*EL!$C$12/Prices!$M$2 -> 0 | Q83: =IF(P83>0,P83*0.25,"") | R83: =IFERROR(P83+Q83,"") | S83: =IFERROR(I83-M83,"") | T83: =IFERROR(IF(P83/S83>0,R83/S83,"∞"),"∞") -> ∞
I84: =IFERROR(VLOOKUP(F84,NiceHash!$S$3:$W$33,4,FALSE)*G84,"") | L84: =IFERROR(J84/K84,J84) -> 0 | M84: =L84*24/1000*EL!$C$12/Prices!$M$2 -> 0 | Q84: =IF(P84>0,P84*0.25,"") | R84: =IFERROR(P84+Q84,"") | S84: =IFERROR(I84-M84,"") | T84: =IFERROR(IF(P84/S84>0,R84/S84,"∞"),"∞") -> ∞
I85: =IFERROR(VLOOKUP(F85,NiceHash!$S$3:$W$33,4,FALSE)*G85,"") | L85: =IFERROR(J85/K85,J85) -> 0 | M85: =L85*24/1000*EL!$C$12/Prices!$M$2 -> 0 | Q85: =IF(P85>0,P85*0.25,"") | R85: =IFERROR(P85+Q85,"") | S85: =IFERROR(I85-M85,"") | T85: =IFERROR(IF(P85/S85>0,R85/S85,"∞"),"∞") -> ∞
I86: =IFERROR(VLOOKUP(F86,NiceHash!$S$3:$W$33,4,FALSE)*G86,"") | L86: =IFERROR(J86/K86,J86) -> 0 | M86: =L86*24/1000*EL!$C$12/Prices!$M$2 -> 0 | Q86: =IF(P86>0,P86*0.25,"") | R86: =IFERROR(P86+Q86,"") | S86: =IFERROR(I86-M86,"") | T86: =IFERROR(IF(P86/S86>0,R86/S86,"∞"),"∞") -> ∞
I87: =IFERROR(VLOOKUP(F87,NiceHash!$S$3:$W$33,4,FALSE)*G87,"") | L87: =IFERROR(J87/K87,J87) -> 0 | M87: =L87*24/1000*EL!$C$12/Prices!$M$2 -> 0 | Q87: =IF(P87>0,P87*0.25,"") | R87: =IFERROR(P87+Q87,"") | S87: =IFERROR(I87-M87,"") | T87: =IFERROR(IF(P87/S87>0,R87/S87,"∞"),"∞") -> ∞
I88: =IFERROR(VLOOKUP(F88,NiceHash!$S$3:$W$33,4,FALSE)*G88,"") | L88: =IFERROR(J88/K88,J88) -> 0 | M88: =L88*24/1000*EL!$C$12/Prices!$M$2 -> 0 | Q88: =IF(P88>0,P88*0.25,"") | R88: =IFERROR(P88+Q88,"") | S88: =IFERROR(I88-M88,"") | T88: =IFERROR(IF(P88/S88>0,R88/S88,"∞"),"∞") -> ∞
I89: =IFERROR(VLOOKUP(F89,NiceHash!$S$3:$W$33,4,FALSE)*G89,"") | L89: =IFERROR(J89/K89,J89) -> 0 | M89: =L89*24/1000*EL!$C$12/Prices!$M$2 -> 0 | Q89: =IF(P89>0,P89*0.25,"") | R89: =IFERROR(P89+Q89,"") | S89: =IFERROR(I89-M89,"") | T89: =IFERROR(IF(P89/S89>0,R89/S89,"∞"),"∞") -> ∞
... I97: =IFERROR(VLOOKUP(F97,NiceHash!$S$3:$W$33,4,FALSE)*G97,"") | L97: =IFERROR(J97/K97,J97) -> 0 | M97: =L97*24/1000*EL!$C$12/Prices!$M$2 -> 0 | Q97: =IF(P97>0,P97*0.25,"") | R97: =IFERROR(P97+Q97,"") | S97: =IFERROR(I97-M97,"") | T97: =IFERROR(IF(P97/S97>0,R97/S97,"∞"),"∞") -> ∞

Sheet GPU
A1: Source | B1: GPU card Parameters | J1: Overclocking | L1: Algorithms | N1: Speed 1 | P1: Mining | Q1: Speed 2 | S1: Mining | T1: ALL | U1: Power
B2: Manufacturer | C2: Chip | D2: Serie | F2: Model | G2: Options | H2: Memory | I2: GB | J2: GPU Core | K2: Memory | L2: Algo 1 | M2: Algo 2 | N2: Speed | O2: Dim | P2: $/Day | Q2: Speed | R2: Dim | S2: $/Day | T2: $/Day | U2: W | V2: $/Day | X2: Miner | Y2: Operating System | Z2: Driver Version
A3: Internet | B3: AMD | C3: AMD | D3: Firepro | E3: V | F3: 3900 | I3: 1 | J3: 650 | K3: 900 | L3: Blake256(Decred) | N3: 0.3 | O3: GH/s | P3: =IFERROR(VLOOKUP(L3,NiceHash!$S$3:$W$33,4,FALSE)*N3,0) -> 0.018167692 | S3: =IFERROR(VLOOKUP(M3,NiceHash!$S$3:$W$33,4,FALSE)*Q3,0) -> 0 | T3: =P3+S3 -> 0.018167692 | Y3: Windows 7 Pro x4 SP1 | Z3: 14.502.1019
A4: Internet | B4: SAPPHIRE | C4: AMD | D4: Radeon | E4: HD | F4: 4850 | J4: 625 | K4: 1000 | L4: Blake256(Decred) | N4: 0.2 | O4: GH/s | P4: =IFERROR(VLOOKUP(L4,NiceHash!$S$3:$W$33,4,FALSE)*N4,0) -> 0.012111795 | S4: =IFERROR(VLOOKUP(M4,NiceHash!$S$3:$W$33,4,FALSE)*Q4,0) -> 0 | T4: =P4+S4 -> 0.012111795 | Y4: Windows Server 2008 R2 | Z4: Catalyst 13.9
A5: Internet | B5: MSI | C5: AMD | D5: Radeon | E5: HD | F5: 5450 | J5: 650 | K5: 800 | L5: Lyra2REv2 | N5: 0.169 | O5: MH/s | P5: =IFERROR(VLOOKUP(L5,NiceHash!$S$3:$W$33,4,FALSE)*N5,0) -> 0.0049317848 | S5: =IFERROR(VLOOKUP(M5,NiceHash!$S$3:$W$33,4,FALSE)*Q5,0) -> 0 | T5: =P5+S5 -> 0.0049317848 | Y5: Win 7 x64 | Z5: AMD-Catalyst-Omega-14.12
A6: Internet | B6: AMD | C6: AMD | D6: Radeon | E6: HD | F6: 5570 | J6: 700 | K6: 815 | L6: NeoScrypt | N6: 41 | O6: kH/s | P6: =IFERROR(VLOOKUP(L6,NiceHash!$S$3:$W$33,4,FALSE)*N6,0) -> 0.038634204 | S6: =IFERROR(VLOOKUP(M6,NiceHash!$S$3:$W$33,4,FALSE)*Q6,0) -> 0 | T6: =P6+S6 -> 0.038634204 | Y6: Windows 7 Ultimate 64bit | Z6: Catalyst 15.20
A7: Internet | B7: ATI | C7: AMD | D7: Radeon | E7: HD | F7: 5770 | J7: 960 | K7: 600 | L7: Blake256(Decred) | N7: 0.37 | O7: GH/s | P7: =IFERROR(VLOOKUP(L7,NiceHash!$S$3:$W$33,4,FALSE)*N7,0) -> 0.022406821 | S7: =IFERROR(VLOOKUP(M7,NiceHash!$S$3:$W$33,4,FALSE)*Q7,0) -> 0 | T7: =P7+S7 -> 0.022406821 | Y7: Windows 10 | Z7: Catalyst 15.201
A8: Internet | B8: SAPPHIRE | C8: AMD | D8: Radeon | E8: HD | F8: 5850 | G8: Extreme | J8: 780 | K8: 900 | L8: Blake256(Decred) | N8: 0.5 | O8: GH/s | P8: =IFERROR(VLOOKUP(L8,NiceHash!$S$3:$W$33,4,FALSE)*N8,0) -> 0.030279487 | S8: =IFERROR(VLOOKUP(M8,NiceHash!$S$3:$W$33,4,FALSE)*Q8,0) -> 0 | T8: =P8+S8 -> 0.030279487 | Y8: windows 7 | Z8: Catalyst 13.12
A9: Internet | B9: MSI | C9: AMD | D9: Radeon | E9: HD | F9: 5850 | J9: 800 | K9: 1050 | L9: NeoScrypt | N9: 155 | O9: kH/s | P9: =IFERROR(VLOOKUP(L9,NiceHash!$S$3:$W$33,4,FALSE)*N9,0) -> 0.14605614 | S9: =IFERROR(VLOOKUP(M9,NiceHash!$S$3:$W$33,4,FALSE)*Q9,0) -> 0 | T9: =P9+S9 -> 0.14605614 | Y9: win7 | Z9: 13.12
A10: Internet | B10: MSI | C10: AMD | D10: Radeon | E10: HD | F10: 5850 | J10: 800 | K10: 1000 | L10: NeoScrypt | N10: 83 | O10: kH/s | P10: =IFERROR(VLOOKUP(L10,NiceHash!$S$3:$W$33,4,FALSE)*N10,0) -> 0.078210705 | S10: =IFERROR(VLOOKUP(M10,NiceHash!$S$3:$W$33,4,FALSE)*Q10,0) -> 0 | T10: =P10+S10 -> 0.078210705 | Y10: Win 7 | Z10: 13.12
A11: Internet | B11: MSI | C11: AMD | D11: Radeon | E11: HD | F11: 5850 | J11: 725 | K11: 1000 | L11: NeoScrypt | N11: 74 | O11: kH/s | P11: =IFERROR(VLOOKUP(L11,NiceHash!$S$3:$W$33,4,FALSE)*N11,0) -> 0.069730026 | S11: =IFERROR(VLOOKUP(M11,NiceHash!$S$3:$W$33,4,FALSE)*Q11,0) -> 0 | T11: =P11+S11 -> 0.069730026 | Y11: Win 7 | Z11: 13.12
A12: Internet | B12: GIGABYTE | C12: AMD | D12: Radeon | E12: HD | F12: 5870 | J12: 850 | K12: 1200 | L12: Blake256(Decred) | N12: 0.6 | O12: GH/s | P12: =IFERROR(VLOOKUP(L12,NiceHash!$S$3:$W$33,4,FALSE)*N12,0) -> 0.036335385 | S12: =IFERROR(VLOOKUP(M12,NiceHash!$S$3:$W$33,4,FALSE)*Q12,0) -> 0 | T12: =P12+S12 -> 0.036335385 | Y12: Windows 7 | Z12: Catalyst 13.12
A13: Internet | B13: SAPPHIRE | C13: AMD | D13: Radeon | E13: HD | F13: 5870 | J13: 850 | K13: 1200 | L13: Blake256(Decred) | N13: 0.692 | O13: GH/s | P13: =IFERROR(VLOOKUP(L13,NiceHash!$S$3:$W$33,4,FALSE)*N13,0) -> 0.041906811 | S13: =IFERROR(VLOOKUP(M13,NiceHash!$S$3:$W$33,4,FALSE)*Q13,0) -> 0 | T13: =P13+S13 -> 0.041906811 | Y13: Windows 7 Pro | Z13: Catalyst 15.7.1
A14: Internet | B14: AMD | C14: AMD | D14: Radeon | E14: HD | F14: 6550 | G14: D | J14: 800 | K14: 933 | L14: Blake256(Decred) | N14: 0.65 | O14: GH/s | P14: =IFERROR(VLOOKUP(L14,NiceHash!$S$3:$W$33,4,FALSE)*N14,0) -> 0.039363334 | S14: =IFERROR(VLOOKUP(M14,NiceHash!$S$3:$W$33,4,FALSE)*Q14,0) -> 0 | T14: =P14+S14 -> 0.039363334 | Y14: Windows 8.1 | Z14: Catalyst 15.11.1
A15: Internet | B15: SAPPHIRE | C15: AMD | D15: Radeon | E15: HD | F15: 6570 | J15: 675 | K15: 1000 | L15: Blake256(Decred) | N15: 0.13 | O15: GH/s | P15: =IFERROR(VLOOKUP(L15,NiceHash!$S$3:$W$33,4,FALSE)*N15,0) -> 0.0078726667 | S15: =IFERROR(VLOOKUP(M15,NiceHash!$S$3:$W$33,4,FALSE)*Q15,0) -> 0 | T15: =P15+S15 -> 0.0078726667 | Y15: Windows 10 Pro 64bit | Z15: Catalyst 15.201.1151.1008 WHQL
A16: Internet | B16: MSI | C16: AMD | D16: Radeon | E16: HD | F16: 6770 | J16: 800 | K16: 1200 | L16: Blake256(Vanilla) | N16: 0.56 | O16: GH/s | P16: =IFERROR(VLOOKUP(L16,NiceHash!$S$3:$W$33,4,FALSE)*N16,0) -> 0 | S16: =IFERROR(VLOOKUP(M16,NiceHash!$S$3:$W$33,4,FALSE)*Q16,0) -> 0 | T16: =P16+S16 -> 0 | Y16: Windows 7 | Z16: Catalyst 15.20
A17: Internet | B17: AMD | C17: AMD | D17: Radeon | E17: HD | F17: 6850 | J17: 850 | K17: 1200 | L17: Blake256(Decred) | N17: 0.39 | O17: GH/s | P17: =IFERROR(VLOOKUP(L17,NiceHash!$S$3:$W$33,4,FALSE)*N17,0) -> 0.023618 | S17: =IFERROR(VLOOKUP(M17,NiceHash!$S$3:$W$33,4,FALSE)*Q17,0) -> 0 | T17: =P17+S17 -> 0.023618 | Y17: Windows 7 | Z17: Catalyst 15.20
A18: Internet | B18: HIS | C18: AMD | D18: Radeon | E18: HD | F18: 6870 | J18: 900 | K18: 1024 | L18: Scrypt | N18: 0.311 | O18: MH/s | P18: =IFERROR(VLOOKUP(L18,NiceHash!$S$3:$W$33,4,FALSE)*N18,0) -> 0.0027135798 | S18: =IFERROR(VLOOKUP(M18,NiceHash!$S$3:$W$33,4,FALSE)*Q18,0) -> 0 | T18: =P18+S18 -> 0.0027135798 | Y18: ubuntu | Z18: catalyst
A19: Internet | B19: HIS | C19: AMD | D19: Radeon | E19: HD | F19: 6930 | J19: 900 | K19: 1200 | L19: Blake256(Decred) | N19: 1.35 | O19: GH/s | P19: =IFERROR(VLOOKUP(L19,NiceHash!$S$3:$W$33,4,FALSE)*N19,0) -> 0.081754616 | S19: =IFERROR(VLOOKUP(M19,NiceHash!$S$3:$W$33,4,FALSE)*Q19,0) -> 0 | T19: =P19+S19 -> 0.081754616 | Y19: Windows 7 x64 | Z19: 15.2
A20: Internet | B20: AMD | C20: AMD | D20: Radeon | E20: HD | F20: 6950 | J20: 800 | K20: 1250 | L20: Blake256(Decred) | N20: 1.1 | O20: GH/s | P20: =IFERROR(VLOOKUP(L20,NiceHash!$S$3:$W$33,4,FALSE)*N20,0) -> 0.066614873 | S20: =IFERROR(VLOOKUP(M20,NiceHash!$S$3:$W$33,4,FALSE)*Q20,0) -> 0 | T20: =P20+S20 -> 0.066614873 | Y20: Windows 7 | Z20: 15.20.1062.1004-150803a1-187669C
A21: Internet | B21: MSI | C21: AMD | D21: Radeon | E21: HD | F21: 6950 | J21: 850 | K21: 5200 | L21: Blake256(Decred) | N21: 0.65 | O21: GH/s | P21: =IFERROR(VLOOKUP(L21,NiceHash!$S$3:$W$33,4,FALSE)*N21,0) -> 0.039363334 | S21: =IFERROR(VLOOKUP(M21,NiceHash!$S$3:$W$33,4,FALSE)*Q21,0) -> 0 | T21: =P21+S21 -> 0.039363334 | Y21: Windows 10 | Z21: Catalyst 16
A22: Internet | B22: POWERCOLOR | C22: AMD | D22: Radeon | E22: HD | F22: 6950 | J22: 895 | K22: 900 | L22: Blake256(Decred) | N22: 1.2 | O22: GH/s | P22: =IFERROR(VLOOKUP(L22,NiceHash!$S$3:$W$33,4,FALSE)*N22,0) -> 0.07267077 | S22: =IFERROR(VLOOKUP(M22,NiceHash!$S$3:$W$33,4,FALSE)*Q22,0) -> 0 | T22: =P22+S22 -> 0.07267077 | Y22: windows 7 / 64 | Z22: Catalyst 15.201.1151.0
A23: Internet | B23: SAPPHIRE | C23: AMD | D23: Radeon | E23: HD | F23: 6950 | J23: 800 | K23: 1250 | L23: Blake256(Decred) | N23: 1.315 | O23: GH/s | P23: =IFERROR(VLOOKUP(L23,NiceHash!$S$3:$W$33,4,FALSE)*N23,0) -> 0.079635052 | S23: =IFERROR(VLOOKUP(M23,NiceHash!$S$3:$W$33,4,FALSE)*Q23,0) -> 0 | T23: =P23+S23 -> 0.079635052 | Y23: Windows 8.1 x64 | Z23: Catalyst 15.7.1
A24: Internet | B24: SAPPHIRE | C24: AMD | D24: Radeon | E24: HD | F24: 6950 | J24: 800 | K24: 1250 | L24: Blake256(Decred) | N24: 0.78 | O24: GH/s | P24: =IFERROR(VLOOKUP(L24,NiceHash!$S$3:$W$33,4,FALSE)*N24,0) -> 0.047236 | S24: =IFERROR(VLOOKUP(M24,NiceHash!$S$3:$W$33,4,FALSE)*Q24,0) -> 0 | T24: =P24+S24 -> 0.047236 | Y24: Win 10 x64 pro | Z24: 15.2
A25: Internet | B25: XFX | C25: AMD | D25: Radeon | E25: HD | F25: 6950 | J25: 840 | K25: 1325 | L25: Blake256(Decred) | N25: 0.62 | O25: GH/s | P25: =IFERROR(VLOOKUP(L25,NiceHash!$S$3:$W$33,4,FALSE)*N25,0) -> 0.037546564 | S25: =IFERROR(VLOOKUP(M25,NiceHash!$S$3:$W$33,4,FALSE)*Q25,0) -> 0 | T25: =P25+S25 -> 0.037546564 | Y25: Windows 7x64 | Z25: Catalyst 15.7.1
A26: Internet | B26: XFX | C26: AMD | D26: Radeon | E26: HD | F26: 6950 | J26: 1000 | K26: 600 | L26: Blake256(Decred) | N26: 1.31 | O26: GH/s | P26: =IFERROR(VLOOKUP(L26,NiceHash!$S$3:$W$33,4,FALSE)*N26,0) -> 0.079332257 | S26: =IFERROR(VLOOKUP(M26,NiceHash!$S$3:$W$33,4,FALSE)*Q26,0) -> 0 | T26: =P26+S26 -> 0.079332257 | Y26: Arch Linux | Z26: Catalyst 15.2
A27: Internet | B27: MSI | C27: AMD | D27: Radeon | E27: HD | F27: 6950 | J27: 810 | K27: 1250 | L27: NeoScrypt | N27: 190 | O27: kH/s | P27: =IFERROR(VLOOKUP(L27,NiceHash!$S$3:$W$33,4,FALSE)*N27,0) -> 0.17903655 | S27: =IFERROR(VLOOKUP(M27,NiceHash!$S$3:$W$33,4,FALSE)*Q27,0) -> 0 | T27: =P27+S27 -> 0.17903655 | Y27: win 7 | Z27: 37087
A28: Internet | B28: POWERCOLOR | C28: AMD | D28: Radeon | E28: HD | F28: 6950 | J28: 910 | K28: 1300 | L28: NeoScrypt | N28: 213 | O28: kH/s | P28: =IFERROR(VLOOKUP(L28,NiceHash!$S$3:$W$33,4,FALSE)*N28,0) -> 0.2007094 | S28: =IFERROR(VLOOKUP(M28,NiceHash!$S$3:$W$33,4,FALSE)*Q28,0) -> 0 | T28: =P28+S28 -> 0.2007094 | Y28: Windows 10 | Z28: Catalyst 15.7.1
A29: Internet | B29: AMD | C29: AMD | D29: Radeon | E29: HD | F29: 6990 | J29: 930 | K29: 1500 | L29: Ethash | N29: 24 | O29: MH/s | P29: =IFERROR(VLOOKUP(L29,NiceHash!$S$3:$W$33,4,FALSE)*N29,0) -> 0.98832247 | S29: =IFERROR(VLOOKUP(M29,NiceHash!$S$3:$W$33,4,FALSE)*Q29,0) -> 0 | T29: =P29+S29 -> 0.98832247 | Y29: Windows 10 | Z29: 15.xx
A30: Internet | B30: GIGABYTE | C30: AMD | D30: Radeon | E30: HD | F30: 7750 | J30: 1000 | K30: 500 | L30: Blake256(Decred) | N30: 0.33 | O30: GH/s | P30: =IFERROR(VLOOKUP(L30,NiceHash!$S$3:$W$33,4,FALSE)*N30,0) -> 0.019984462 | S30: =IFERROR(VLOOKUP(M30,NiceHash!$S$3:$W$33,4,FALSE)*Q30,0) -> 0 | T30: =P30+S30 -> 0.019984462 | Y30: Windows 7 | Z30: Catalyst 14.12
A31: Internet | B31: POWERCOLOR | C31: AMD | D31: Radeon | E31: HD | F31: 7750 | J31: 800 | K31: 1125 | L31: Blake256(Decred) | N31: 0.25 | O31: GH/s | P31: =IFERROR(VLOOKUP(L31,NiceHash!$S$3:$W$33,4,FALSE)*N31,0) -> 0.015139744 | S31: =IFERROR(VLOOKUP(M31,NiceHash!$S$3:$W$33,4,FALSE)*Q31,0) -> 0 | T31: =P31+S31 -> 0.015139744 | Y31: Windows 7 | Z31: Catalytst 15.12
A32: Internet | B32: SAPPHIRE | C32: AMD | D32: Radeon | E32: HD | F32: 7750 | J32: 850 | K32: 1200 | L32: Qubit | N32: 2.03 | O32: MH/s | P32: =IFERROR(VLOOKUP(L32,NiceHash!$S$3:$W$33,4,FALSE)*N32,0) -> 0.002099725 | S32: =IFERROR(VLOOKUP(M32,NiceHash!$S$3:$W$33,4,FALSE)*Q32,0) -> 0 | T32: =P32+S32 -> 0.002099725 | Y32: Win 10 | Z32: 15.2
A33: Internet | B33: ASUS | C33: AMD | D33: Radeon | E33: HD | F33: 7770 | J33: 1020 | K33: 375 | L33: Blake256(Decred) | N33: 0.39 | O33: GH/s | P33: =IFERROR(VLOOKUP(L33,NiceHash!$S$3:$W$33,4,FALSE)*N33,0) -> 0.023618 | S33: =IFERROR(VLOOKUP(M33,NiceHash!$S$3:$W$33,4,FALSE)*Q33,0) -> 0 | T33: =P33+S33 -> 0.023618 | Y33: Windows 10 | Z33: Catalyst 15.014
A34: Internet | B34: SAPPHIRE | C34: AMD | D34: Radeon | E34: HD | F34: 7790 | G34: Dual-X OC | J34: 1080 | K34: 1600 | L34: Blake256(Decred) | N34: 0.7 | O34: GH/s | P34: =IFERROR(VLOOKUP(L34,NiceHash!$S$3:$W$33,4,FALSE)*N34,0) -> 0.042391282 | S34: =IFERROR(VLOOKUP(M34,NiceHash!$S$3:$W$33,4,FALSE)*Q34,0) -> 0 | T34: =P34+S34 -> 0.042391282 | Y34: Windows 7 | Z34: Crimson 15.12
A35: Internet | B35: SAPPHIRE | C35: AMD | D35: Radeon | E35: HD | F35: 7790 | J35: 1200 | K35: 1600 | L35: Blake256(Decred) | N35: 0.688 | O35: GH/s | P35: =IFERROR(VLOOKUP(L35,NiceHash!$S$3:$W$33,4,FALSE)*N35,0) -> 0.041664575 | S35: =IFERROR(VLOOKUP(M35,NiceHash!$S$3:$W$33,4,FALSE)*Q35,0) -> 0 | T35: =P35+S35 -> 0.041664575 | Y35: Windows 10 | Z35: Crimson 16.3
A36: Internet | B36: SAPPHIRE | C36: AMD | D36: Radeon | E36: HD | F36: 7790 | J36: 1050 | K36: 1600 | L36: Blake256(Decred) | N36: 0.6 | O36: GH/s | P36: =IFERROR(VLOOKUP(L36,NiceHash!$S$3:$W$33,4,FALSE)*N36,0) -> 0.036335385 | S36: =IFERROR(VLOOKUP(M36,NiceHash!$S$3:$W$33,4,FALSE)*Q36,0) -> 0 | T36: =P36+S36 -> 0.036335385 | Y36: Windows 10 x64 | Z36: Crimson 16.3.2
A37: Internet | B37: SAPPHIRE | C37: AMD | D37: Radeon | E37: HD | F37: 7790 | J37: 1050 | K37: 1600 | L37: Ethash | N37: 5.2 | O37: MH/s | P37: =IFERROR(VLOOKUP(L37,NiceHash!$S$3:$W$33,4,FALSE)*N37,0) -> 0.21413654 | S37: =IFERROR(VLOOKUP(M37,NiceHash!$S$3:$W$33,4,FALSE)*Q37,0) -> 0 | T37: =P37+S37 -> 0.21413654 | Y37: Windows 10 x64 | Z37: Crimson 16.4.1
A38: Internet | B38: SAPPHIRE | C38: AMD | D38: Radeon | E38: HD | F38: 7790 | J38: 1075 | K38: 1500 | L38: Lyra2REv2 | N38: 2.82 | O38: MH/s | P38: =IFERROR(VLOOKUP(L38,NiceHash!$S$3:$W$33,4,FALSE)*N38,0) -> 0.082293688 | S38: =IFERROR(VLOOKUP(M38,NiceHash!$S$3:$W$33,4,FALSE)*Q38,0) -> 0 | T38: =P38+S38 -> 0.082293688 | Y38: Ubuntu 14.04 | Z38: fglrx-updates
A39: Internet | B39: ASUS | C39: AMD | D39: Radeon | E39: HD | F39: 7850 | J39: 1000 | K39: 1300 | L39: Ethash | N39: 11 | O39: MH/s | P39: =IFERROR(VLOOKUP(L39,NiceHash!$S$3:$W$33,4,FALSE)*N39,0) -> 0.45298113 | S39: =IFERROR(VLOOKUP(M39,NiceHash!$S$3:$W$33,4,FALSE)*Q39,0) -> 0 | T39: =P39+S39 -> 0.45298113 | Y39: Windows 7 | Z39: Crimson 15.11
A40: Internet | B40: ASUS | C40: AMD | D40: Radeon | E40: HD | F40: 7850 | J40: 860 | K40: 1000 | L40: Ethash | N40: 12 | O40: MH/s | P40: =IFERROR(VLOOKUP(L40,NiceHash!$S$3:$W$33,4,FALSE)*N40,0) -> 0.49416124 | S40: =IFERROR(VLOOKUP(M40,NiceHash!$S$3:$W$33,4,FALSE)*Q40,0) -> 0 | T40: =P40+S40 -> 0.49416124 | Y40: Windows 8.1 x64 | Z40: Radeon Software Version 16.4.1
A41: Internet | B41: POWERCOLOR | C41: AMD | D41: Radeon | E41: HD | F41: 7850 | J41: 860 | K41: 1200 | L41: Ethash | N41: 0.45 | O41: MH/s | P41: =IFERROR(VLOOKUP(L41,NiceHash!$S$3:$W$33,4,FALSE)*N41,0) -> 0.018531046 | S41: =IFERROR(VLOOKUP(M41,NiceHash!$S$3:$W$33,4,FALSE)*Q41,0) -> 0 | T41: =P41+S41 -> 0.018531046 | Y41: ubuntu | Z41: Catalyst 15.5
A42: Internet | B42: SAPPHIRE | C42: AMD | D42: Radeon | E42: HD | F42: 7850 | J42: 1050 | K42: 1300 | L42: Ethash | N42: 12 | O42: MH/s | P42: =IFERROR(VLOOKUP(L42,NiceHash!$S$3:$W$33,4,FALSE)*N42,0) -> 0.49416124 | S42: =IFERROR(VLOOKUP(M42,NiceHash!$S$3:$W$33,4,FALSE)*Q42,0) -> 0 | T42: =P42+S42 -> 0.49416124 | Y42: Windows 8.1 x64 | Z42: Crimson 16.1
A43: Internet | B43: SAPPHIRE | C43: AMD | D43: Radeon | E43: HD | F43: 7850 | J43: 1100 | K43: 1250 | L43: Ethash | N43: 12.5 | O43: MH/s | P43: =IFERROR(VLOOKUP(L43,NiceHash!$S$3:$W$33,4,FALSE)*N43,0) -> 0.51475129 | S43: =IFERROR(VLOOKUP(M43,NiceHash!$S$3:$W$33,4,FALSE)*Q43,0) -> 0 | T43: =P43+S43 -> 0.51475129 | Y43: Windows 8.1 | Z43: Crimson 15.12
A44: Internet | B44: SAPPHIRE | C44: AMD | D44: Radeon | E44: HD | F44: 7850 | J44: 1000 | K44: 1250 | L44: Ethash | N44: 13.5 | O44: MH/s | P44: =IFERROR(VLOOKUP(L44,NiceHash!$S$3:$W$33,4,FALSE)*N44,0) -> 0.55593139 | S44: =IFERROR(VLOOKUP(M44,NiceHash!$S$3:$W$33,4,FALSE)*Q44,0) -> 0 | T44: =P44+S44 -> 0.55593139 | Y44: Win 7 | Z44: 37087
A45: Internet | B45: GIGABYTE | C45: AMD | D45: Radeon | E45: HD | F45: 7870 | G45: OC | J45: 1100 | K45: 1800 | L45: Ethash | N45: 16 | O45: MH/s | P45: =IFERROR(VLOOKUP(L45,NiceHash!$S$3:$W$33,4,FALSE)*N45,0) -> 0.65888165 | S45: =IFERROR(VLOOKUP(M45,NiceHash!$S$3:$W$33,4,FALSE)*Q45,0) -> 0 | T45: =P45+S45 -> 0.65888165 | Y45: Win 10 | Z45: Catalyst 15.12
A46: Internet | B46: MSI | C46: AMD | D46: Radeon | E46: HD | F46: 7870 | G46: Twin Frozr III | J46: 1050 | K46: 1500 | L46: Ethash | N46: 18.1 | O46: MH/s | P46: =IFERROR(VLOOKUP(L46,NiceHash!$S$3:$W$33,4,FALSE)*N46,0) -> 0.74535986 | S46: =IFERROR(VLOOKUP(M46,NiceHash!$S$3:$W$33,4,FALSE)*Q46,0) -> 0 | T46: =P46+S46 -> 0.74535986 | Y46: Windows 10 64bit Enterprize | Z46: Catalist 16.4.2
A47: Internet | B47: CLUB3D | C47: AMD | D47: Radeon | E47: HD | F47: 7870 | G47: XT | J47: 1050 | K47: 1050 | L47: Ethash | N47: 14.5 | O47: MH/s | P47: =IFERROR(VLOOKUP(L47,NiceHash!$S$3:$W$33,4,FALSE)*N47,0) -> 0.59711149 | S47: =IFERROR(VLOOKUP(M47,NiceHash!$S$3:$W$33,4,FALSE)*Q47,0) -> 0 | T47: =P47+S47 -> 0.59711149 | Y47: Windows 10 | Z47: Crimson 15.12
A48: Internet | B48: ASUS | C48: AMD | D48: Radeon | E48: HD | F48: 7870 | J48: 1050 | K48: 1250 | L48: Blake256(Decred) | N48: 0.869 | O48: GH/s | P48: =IFERROR(VLOOKUP(L48,NiceHash!$S$3:$W$33,4,FALSE)*N48,0) -> 0.052625749 | S48: =IFERROR(VLOOKUP(M48,NiceHash!$S$3:$W$33,4,FALSE)*Q48,0) -> 0 | T48: =P48+S48 -> 0.052625749 | Y48: Windows 10 | Z48: Catalyst 16.1.1
A49: Internet | B49: ASUS | C49: AMD | D49: Radeon | E49: HD | F49: 7870 | J49: 1000 | K49: 1200 | L49: Ethash | N49: 13.5 | O49: MH/s | P49: =IFERROR(VLOOKUP(L49,NiceHash!$S$3:$W$33,4,FALSE)*N49,0) -> 0.55593139 | S49: =IFERROR(VLOOKUP(M49,NiceHash!$S$3:$W$33,4,FALSE)*Q49,0) -> 0 | T49: =P49+S49 -> 0.55593139 | Y49: win 7 64 | Z49: Crimson 16.4.2
A50: Internet | B50: SAPPHIRE | C50: AMD | D50: Radeon | E50: HD | F50: 7870 | J50: 1050 | K50: 1250 | L50: Ethash | N50: 14 | O50: MH/s | P50: =IFERROR(VLOOKUP(L50,NiceHash!$S$3:$W$33,4,FALSE)*N50,0) -> 0.57652144 | S50: =IFERROR(VLOOKUP(M50,NiceHash!$S$3:$W$33,4,FALSE)*Q50,0) -> 0 | T50: =P50+S50 -> 0.57652144 | Y50: Windows 7 x64 | Z50: Catalyst 15.7.1
A51: Internet | B51: SAPPHIRE | C51: AMD | D51: Radeon | E51: HD | F51: 7870 | J51: 1200 | K51: 625 | L51: Ethash | N51: 16.6 | O51: MH/s | P51: =IFERROR(VLOOKUP(L51,NiceHash!$S$3:$W$33,4,FALSE)*N51,0) -> 0.68358971 | S51: =IFERROR(VLOOKUP(M51,NiceHash!$S$3:$W$33,4,FALSE)*Q51,0) -> 0 | T51: =P51+S51 -> 0.68358971 | Y51: windows 10 pro | Z51: 15.2
A52: Internet | B52: MSI | C52: AMD | D52: Radeon | E52: HD | F52: 7950 | G52: Twin Frozr III | J52: 960 | K52: 1250 | L52: Ethash | N52: 20.5 | O52: MH/s | P52: =IFERROR(VLOOKUP(L52,NiceHash!$S$3:$W$33,4,FALSE)*N52,0) -> 0.84419211 | S52: =IFERROR(VLOOKUP(M52,NiceHash!$S$3:$W$33,4,FALSE)*Q52,0) -> 0 | T52: =P52+S52 -> 0.84419211 | Y52: Unbuntu 15.04 | Z52: Catalyst 15.7?
A53: Internet | B53: AMD | C53: AMD | D53: Radeon | E53: HD | F53: 7950 | J53: 950 | K53: 1290 | L53: Blake256(Decred) | N53: 1.07 | O53: GH/s | P53: =IFERROR(VLOOKUP(L53,NiceHash!$S$3:$W$33,4,FALSE)*N53,0) -> 0.064798103 | S53: =IFERROR(VLOOKUP(M53,NiceHash!$S$3:$W$33,4,FALSE)*Q53,0) -> 0 | T53: =P53+S53 -> 0.064798103 | Y53: Windows 8.1 | Z53: Crimson 16.3.2
A54: Internet | B54: GIGABYTE | C54: AMD | D54: Radeon | E54: HD | F54: 7950 | J54: 1000 | K54: 1250 | L54: Blake256(Decred) | N54: 1.115 | O54: GH/s | P54: =IFERROR(VLOOKUP(L54,NiceHash!$S$3:$W$33,4,FALSE)*N54,0) -> 0.067523257 | S54: =IFERROR(VLOOKUP(M54,NiceHash!$S$3:$W$33,4,FALSE)*Q54,0) -> 0 | T54: =P54+S54 -> 0.067523257 | Y54: Ubuntu 14.04 | Z54: 15
A55: Internet | B55: SAPPHIRE | C55: AMD | D55: Radeon | E55: HD | F55: 7950 | J55: 925 | K55: 1250 | L55: Blake256(Decred) | N55: 1.094 | O55: GH/s | P55: =IFERROR(VLOOKUP(L55,NiceHash!$S$3:$W$33,4,FALSE)*N55,0) -> 0.066251519 | S55: =IFERROR(VLOOKUP(M55,NiceHash!$S$3:$W$33,4,FALSE)*Q55,0) -> 0 | T55: =P55+S55 -> 0.066251519 | Y55: Windows 10 | Z55: Crimson 16.3.1
A56: Internet | B56: CLUB3D | C56: AMD | D56: Radeon | E56: HD | F56: 7950 | J56: 1150 | K56: 1600 | L56: Ethash | N56: 24.7 | O56: MH/s | P56: =IFERROR(VLOOKUP(L56,NiceHash!$S$3:$W$33,4,FALSE)*N56,0) -> 1.0171485 | S56: =IFERROR(VLOOKUP(M56,NiceHash!$S$3:$W$33,4,FALSE)*Q56,0) -> 0 | T56: =P56+S56 -> 1.0171485 | Y56: Windows 8.1 | Z56: Catalyst 5.11
A57: Internet | B57: GIGABYTE | C57: AMD | D57: Radeon | E57: HD | F57: 7950 | J57: 1000 | K57: 1250 | L57: Ethash | N57: 21 | O57: MH/s | P57: =IFERROR(VLOOKUP(L57,NiceHash!$S$3:$W$33,4,FALSE)*N57,0) -> 0.86478216 | S57: =IFERROR(VLOOKUP(M57,NiceHash!$S$3:$W$33,4,FALSE)*Q57,0) -> 0 | T57: =P57+S57 -> 0.86478216 | Y57: Windows 8.1 | Z57: Catalyst 16.2
A58: Internet | B58: GIGABYTE | C58: AMD | D58: Radeon | E58: HD | F58: 7950 | J58: 1200 | K58: 1575 | L58: Ethash | N58: 21 | O58: MH/s | P58: =IFERROR(VLOOKUP(L58,NiceHash!$S$3:$W$33,4,FALSE)*N58,0) -> 0.86478216 | S58: =IFERROR(VLOOKUP(M58,NiceHash!$S$3:$W$33,4,FALSE)*Q58,0) -> 0 | T58: =P58+S58 -> 0.86478216 | Y58: Windows 10 | Z58: Catalyst 16.3.2
A59: Internet | B59: GIGABYTE | C59: AMD | D59: Radeon | E59: HD | F59: 7950 | J59: 1100 | K59: 1250 | L59: Ethash | N59: 23 | O59: MH/s | P59: =IFERROR(VLOOKUP(L59,NiceHash!$S$3:$W$33,4,FALSE)*N59,0) -> 0.94714237 | S59: =IFERROR(VLOOKUP(M59,NiceHash!$S$3:$W$33,4,FALSE)*Q59,0) -> 0 | T59: =P59+S59 -> 0.94714237 | Y59: Windows 7 | Z59: Catalyst 15.7.1
A60: Internet | B60: SAPPHIRE | C60: AMD | D60: Radeon | E60: HD | F60: 7950 | J60: 950 | K60: 1250 | L60: Ethash | N60: 16 | O60: MH/s | P60: =IFERROR(VLOOKUP(L60,NiceHash!$S$3:$W$33,4,FALSE)*N60,0) -> 0.65888165 | S60: =IFERROR(VLOOKUP(M60,NiceHash!$S$3:$W$33,4,FALSE)*Q60,0) -> 0 | T60: =P60+S60 -> 0.65888165 | Y60: Windows 7 64 bit | Z60: AMD
A61: Internet | B61: SAPPHIRE | C61: AMD | D61: Radeon | E61: HD | F61: 7950 | J61: 925 | K61: 5000 | L61: Ethash | N61: 17.4 | O61: MH/s | P61: =IFERROR(VLOOKUP(L61,NiceHash!$S$3:$W$33,4,FALSE)*N61,0) -> 0.71653379 | S61: =IFERROR(VLOOKUP(M61,NiceHash!$S$3:$W$33,4,FALSE)*Q61,0) -> 0 | T61: =P61+S61 -> 0.71653379 | Y61: Windows7 x64 | Z61: Catalyst 15.12
A62: Internet | B62: SAPPHIRE | C62: AMD | D62: Radeon | E62: HD | F62: 7950 | J62: 1175 | K62: 1375 | L62: Ethash | N62: 20.5 | O62: MH/s | P62: =IFERROR(VLOOKUP(L62,NiceHash!$S$3:$W$33,4,FALSE)*N62,0) -> 0.84419211 | S62: =IFERROR(VLOOKUP(M62,NiceHash!$S$3:$W$33,4,FALSE)*Q62,0) -> 0 | T62: =P62+S62 -> 0.84419211 | Y62: Windows 7 | Z62: Catalyst 15.11
A63: Internet | B63: XFX | C63: AMD | D63: Radeon | E63: HD | F63: 7950 | J63: 1100 | K63: 1500 | L63: Ethash | N63: 22 | O63: MH/s | P63: =IFERROR(VLOOKUP(L63,NiceHash!$S$3:$W$33,4,FALSE)*N63,0) -> 0.90596227 | S63: =IFERROR(VLOOKUP(M63,NiceHash!$S$3:$W$33,4,FALSE)*Q63,0) -> 0 | T63: =P63+S63 -> 0.90596227 | Y63: Windows Server 2012 R2 | Z63: Catalyst 15.11
A64: Internet | B64: XFX | C64: AMD | D64: Radeon | E64: HD | F64: 7950 | J64: 900 | K64: 1300 | L64: Ethash | N64: 19.5 | O64: MH/s | P64: =IFERROR(VLOOKUP(L64,NiceHash!$S$3:$W$33,4,FALSE)*N64,0) -> 0.80301201 | S64: =IFERROR(VLOOKUP(M64,NiceHash!$S$3:$W$33,4,FALSE)*Q64,0) -> 0 | T64: =P64+S64 -> 0.80301201 | Y64: Windows 7 x64 | Z64: Catalyst 15.8
A65: Internet | B65: ASUS | C65: AMD | D65: Radeon | E65: HD | F65: 7950 | J65: 900 | K65: 1250 | L65: X11 | N65: 8.6 | O65: MH/s | P65: =IFERROR(VLOOKUP(L65,NiceHash!$S$3:$W$33,4,FALSE)*N65,0) -> 0.0012499372 | S65: =IFERROR(VLOOKUP(M65,NiceHash!$S$3:$W$33,4,FALSE)*Q65,0) -> 0 | T65: =P65+S65 -> 0.0012499372 | Y65: windows 10 64 bit | Z65: catalyst 15.8
A66: Internet | B66: CLUB3D | C66: AMD | D66: Radeon | E66: HD | F66: 7950 | J66: 1100 | K66: 1500 | L66: X11 | N66: 11 | O66: MH/s | P66: =IFERROR(VLOOKUP(L66,NiceHash!$S$3:$W$33,4,FALSE)*N66,0) -> 0.0015987569 | S66: =IFERROR(VLOOKUP(M66,NiceHash!$S$3:$W$33,4,FALSE)*Q66,0) -> 0 | T66: =P66+S66 -> 0.0015987569 | Y66: Windows 8.1 | Z66: Catalyst 15.4
A67: Internet | B67: GIGABYTE | C67: AMD | D67: Radeon | E67: HD | F67: 7950 | J67: 1100 | K67: 1250 | L67: X11 | N67: 10.7 | O67: MH/s | P67: =IFERROR(VLOOKUP(L67,NiceHash!$S$3:$W$33,4,FALSE)*N67,0) -> 0.0015551545 | S67: =IFERROR(VLOOKUP(M67,NiceHash!$S$3:$W$33,4,FALSE)*Q67,0) -> 0 | T67: =P67+S67 -> 0.0015551545 | Y67: Windows 7 64 | Z67: Catalyst 15.7.1
A68: Internet | B68: DELL | C68: AMD | D68: Radeon | E68: HD | F68: 7970 | G68: M | J68: 1000 | K68: 1412 | L68: Ethash | N68: 17 | O68: MH/s | P68: =IFERROR(VLOOKUP(L68,NiceHash!$S$3:$W$33,4,FALSE)*N68,0) -> 0.70006175 | S68: =IFERROR(VLOOKUP(M68,NiceHash!$S$3:$W$33,4,FALSE)*Q68,0) -> 0 | T68: =P68+S68 -> 0.70006175 | Y68: Windows 10 Pro 64bit | Z68: 16.1 Hotfix
A69: Internet | B69: XFX | C69: AMD | D69: Radeon | E69: HD | F69: 7970 | G69: X | J69: 1050 | K69: 1500 | L69: Ethash | N69: 19 | O69: MH/s | P69: =IFERROR(VLOOKUP(L69,NiceHash!$S$3:$W$33,4,FALSE)*N69,0) -> 0.78242196 | S69: =IFERROR(VLOOKUP(M69,NiceHash!$S$3:$W$33,4,FALSE)*Q69,0) -> 0 | T69: =P69+S69 -> 0.78242196 | Y69: Windows 10 | Z69: Catalyst 16.4.1
A70: Internet | B70: ASUS | C70: AMD | D70: Radeon | E70: HD | F70: 7970 | J70: 900 | K70: 1375 | L70: Blake256(Decred) | N70: 1.105 | O70: GH/s | P70: =IFERROR(VLOOKUP(L70,NiceHash!$S$3:$W$33,4,FALSE)*N70,0) -> 0.066917667 | S70: =IFERROR(VLOOKUP(M70,NiceHash!$S$3:$W$33,4,FALSE)*Q70,0) -> 0 | T70: =P70+S70 -> 0.066917667 | Y70: Windows 7 Ultimate 64bit | Z70: Catalyst 14.x
A71: Internet | B71: VTX3D | C71: AMD | D71: Radeon | E71: HD | F71: 7970 | J71: 1050 | K71: 1450 | L71: Blake256(Decred) | N71: 1.389 | O71: GH/s | P71: =IFERROR(VLOOKUP(L71,NiceHash!$S$3:$W$33,4,FALSE)*N71,0) -> 0.084116416 | S71: =IFERROR(VLOOKUP(M71,NiceHash!$S$3:$W$33,4,FALSE)*Q71,0) -> 0 | T71: =P71+S71 -> 0.084116416 | Y71: Windows 8,1 x64 | Z71: Crimson 16.4.1
A72: Internet | B72: XFX | C72: AMD | D72: Radeon | E72: HD | F72: 7970 | J72: 1100 | K72: 1500 | L72: Blake256(Decred) | N72: 1.45 | O72: GH/s | P72: =IFERROR(VLOOKUP(L72,NiceHash!$S$3:$W$33,4,FALSE)*N72,0) -> 0.087810514 | S72: =IFERROR(VLOOKUP(M72,NiceHash!$S$3:$W$33,4,FALSE)*Q72,0) -> 0 | T72: =P72+S72 -> 0.087810514 | Y72: Windows 10 Pro 64-bit | Z72: AMD Radeon Crimson Edition 16.1.1
A73: Internet | B73: GIGABYTE | C73: AMD | D73: Radeon | E73: HD | F73: 7970 | J73: 1000 | K73: 1375 | L73: Ethash | N73: 20 | O73: MH/s | P73: =IFERROR(VLOOKUP(L73,NiceHash!$S$3:$W$33,4,FALSE)*N73,0) -> 0.82360206 | S73: =IFERROR(VLOOKUP(M73,NiceHash!$S$3:$W$33,4,FALSE)*Q73,0) -> 0 | T73: =P73+S73 -> 0.82360206 | Y73: Windows 10 | Z73: Catalist 16.1
A74: Internet | B74: GIGABYTE | C74: AMD | D74: Radeon | E74: HD | F74: 7970 | J74: 1025 | K74: 1425 | L74: Ethash | N74: 17.5 | O74: MH/s | P74: =IFERROR(VLOOKUP(L74,NiceHash!$S$3:$W$33,4,FALSE)*N74,0) -> 0.7206518 | S74: =IFERROR(VLOOKUP(M74,NiceHash!$S$3:$W$33,4,FALSE)*Q74,0) -> 0 | T74: =P74+S74 -> 0.7206518 | Y74: Windows 7 X64 | Z74: Crimson 5.12
A75: Internet | B75: HIS | C75: AMD | D75: Radeon | E75: HD | F75: 7970 | J75: 1125 | K75: 1500 | L75: Ethash | N75: 22 | O75: MH/s | P75: =IFERROR(VLOOKUP(L75,NiceHash!$S$3:$W$33,4,FALSE)*N75,0) -> 0.90596227 | S75: =IFERROR(VLOOKUP(M75,NiceHash!$S$3:$W$33,4,FALSE)*Q75,0) -> 0 | T75: =P75+S75 -> 0.90596227 | Y75: win10 | Z75: Catalyst 15.2
A76: Internet | B76: MSI | C76: AMD | D76: Radeon | E76: HD | F76: 7970 | J76: 1070 | K76: 6000 | L76: Ethash | N76: 22 | O76: MH/s | P76: =IFERROR(VLOOKUP(L76,NiceHash!$S$3:$W$33,4,FALSE)*N76,0) -> 0.90596227 | S76: =IFERROR(VLOOKUP(M76,NiceHash!$S$3:$W$33,4,FALSE)*Q76,0) -> 0 | T76: =P76+S76 -> 0.90596227 | Y76: WINDOWS 7 | Z76: CATALYST 15
A77: Internet | B77: SAPPHIRE | C77: AMD | D77: Radeon | E77: HD | F77: 7970 | J77: 1150 | K77: 1500 | L77: Ethash | N77: 22.6 | O77: MH/s | P77: =IFERROR(VLOOKUP(L77,NiceHash!$S$3:$W$33,4,FALSE)*N77,0) -> 0.93067033 | S77: =IFERROR(VLOOKUP(M77,NiceHash!$S$3:$W$33,4,FALSE)*Q77,0) -> 0 | T77: =P77+S77 -> 0.93067033 | Y77: Windows 10 | Z77: Crimson Edition 15.12
A78: Internet | B78: SAPPHIRE | C78: AMD | D78: Radeon | E78: HD | F78: 7970 | J78: 1000 | K78: 1450 | L78: Ethash | N78: 23 | O78: MH/s | P78: =IFERROR(VLOOKUP(L78,NiceHash!$S$3:$W$33,4,FALSE)*N78,0) -> 0.94714237 | S78: =IFERROR(VLOOKUP(M78,NiceHash!$S$3:$W$33,4,FALSE)*Q78,0) -> 0 | T78: =P78+S78 -> 0.94714237 | Y78: Windows 10 | Z78: Catalyst 15.11
A79: Internet | B79: XFX | C79: AMD | D79: Radeon | E79: HD | F79: 7970 | J79: 1100 | K79: 1375 | L79: Ethash | N79: 20.71 | O79: MH/s | P79: =IFERROR(VLOOKUP(L79,NiceHash!$S$3:$W$33,4,FALSE)*N79,0) -> 0.85283993 | S79: =IFERROR(VLOOKUP(M79,NiceHash!$S$3:$W$33,4,FALSE)*Q79,0) -> 0 | T79: =P79+S79 -> 0.85283993 | Y79: Windows 10 | Z79: Crimson 16.4.1
A80: Internet | B80: XFX | C80: AMD | D80: Radeon | E80: HD | F80: 7990 | J80: 1000 | K80: 1500 | L80: Blake256(Decred) | N80: 2.63 | O80: GH/s | P80: =IFERROR(VLOOKUP(L80,NiceHash!$S$3:$W$33,4,FALSE)*N80,0) -> 0.1592701 | S80: =IFERROR(VLOOKUP(M80,NiceHash!$S$3:$W$33,4,FALSE)*Q80,0) -> 0 | T80: =P80+S80 -> 0.1592701 | Y80: win 7 64 | Z80: 16.1
A81: Internet | B81: XFX | C81: AMD | D81: Radeon | E81: HD | F81: 7990 | J81: 1000 | K81: 1500 | L81: Blake256(Decred) | N81: 2.55 | O81: GH/s | P81: =IFERROR(VLOOKUP(L81,NiceHash!$S$3:$W$33,4,FALSE)*N81,0) -> 0.15442539 | S81: =IFERROR(VLOOKUP(M81,NiceHash!$S$3:$W$33,4,FALSE)*Q81,0) -> 0 | T81: =P81+S81 -> 0.15442539 | Y81: win 7 64 | Z81: 16.1
A82: Internet | B82: XFX | C82: AMD | D82: Radeon | E82: HD | F82: 7990 | J82: 1000 | K82: 1500 | L82: CryptoNight | N82: 1.1 | O82: kH/s | P82: =IFERROR(VLOOKUP(L82,NiceHash!$S$3:$W$33,4,FALSE)*N82,0) -> 0.5764407 | S82: =IFERROR(VLOOKUP(M82,NiceHash!$S$3:$W$33,4,FALSE)*Q82,0) -> 0 | T82: =P82+S82 -> 0.5764407 | Y82: win 7 64 | Z82: 16.1
A83: Internet | B83: POWERCOLOR | C83: AMD | D83: Radeon | E83: HD | F83: 7990 | J83: 1000 | K83: 1500 | L83: Ethash | N83: 43 | O83: MH/s | P83: =IFERROR(VLOOKUP(L83,NiceHash!$S$3:$W$33,4,FALSE)*N83,0) -> 1.7707444 | S83: =IFERROR(VLOOKUP(M83,NiceHash!$S$3:$W$33,4,FALSE)*Q83,0) -> 0 | T83: =P83+S83 -> 1.7707444 | Y83: Win 10 | Z83: Catalyst 15.12
A84: Internet | B84: SAPPHIRE | C84: AMD | D84: Radeon | E84: HD | F84: 7990 | J84: 1000 | K84: 1500 | L84: Ethash | N84: 44 | O84: MH/s | P84: =IFERROR(VLOOKUP(L84,NiceHash!$S$3:$W$33,4,FALSE)*N84,0) -> 1.8119245 | S84: =IFERROR(VLOOKUP(M84,NiceHash!$S$3:$W$33,4,FALSE)*Q84,0) -> 0 | T84: =P84+S84 -> 1.8119245 | Y84: Windows 7 | Z84: Catalist 15.14
A85: Internet | B85: XFX | C85: AMD | D85: Radeon | E85: HD | F85: 7990 | J85: 1000 | K85: 1500 | L85: Lyra2REv2 | N85: 26 | O85: MH/s | P85: =IFERROR(VLOOKUP(L85,NiceHash!$S$3:$W$33,4,FALSE)*N85,0) -> 0.75873613 | S85: =IFERROR(VLOOKUP(M85,NiceHash!$S$3:$W$33,4,FALSE)*Q85,0) -> 0 | T85: =P85+S85 -> 0.75873613 | Y85: win 7 64 | Z85: 16.1
A86: Internet | B86: XFX | C86: AMD | D86: Radeon | E86: HD | F86: 7990 | J86: 1000 | K86: 1500 | L86: NeoScrypt | N86: 850 | O86: kH/s | P86: =IFERROR(VLOOKUP(L86,NiceHash!$S$3:$W$33,4,FALSE)*N86,0) -> 0.800953 | S86: =IFERROR(VLOOKUP(M86,NiceHash!$S$3:$W$33,4,FALSE)*Q86,0) -> 0 | T86: =P86+S86 -> 0.800953 | Y86: win 7 64 | Z86: 16.1
A87: Internet | B87: XFX | C87: AMD | D87: Radeon | E87: HD | F87: 7990 | J87: 1000 | K87: 1500 | L87: Quark | N87: 28 | O87: MH/s | P87: =IFERROR(VLOOKUP(L87,NiceHash!$S$3:$W$33,4,FALSE)*N87,0) -> 0.015713035 | S87: =IFERROR(VLOOKUP(M87,NiceHash!$S$3:$W$33,4,FALSE)*Q87,0) -> 0 | T87: =P87+S87 -> 0.015713035 | Y87: win 7 64 | Z87: 16.1
A88: Internet | B88: XFX | C88: AMD | D88: Radeon | E88: HD | F88: 7990 | J88: 1000 | K88: 1500 | L88: X11 | N88: 21.8 | O88: MH/s | P88: =IFERROR(VLOOKUP(L88,NiceHash!$S$3:$W$33,4,FALSE)*N88,0) -> 0.0031684456 | S88: =IFERROR(VLOOKUP(M88,NiceHash!$S$3:$W$33,4,FALSE)*Q88,0) -> 0 | T88: =P88+S88 -> 0.0031684456 | Y88: win 7 64 | Z88: 16.1
A89: Internet | B89: XFX | C89: AMD | D89: Radeon | E89: HD | F89: 7990 | J89: 1000 | K89: 1500 | L89: X13 | N89: 9.2 | O89: MH/s | P89: =IFERROR(VLOOKUP(L89,NiceHash!$S$3:$W$33,4,FALSE)*N89,0) -> 0.022285703 | S89: =IFERROR(VLOOKUP(M89,NiceHash!$S$3:$W$33,4,FALSE)*Q89,0) -> 0 | T89: =P89+S89 -> 0.022285703 | Y89: win 7 64 | Z89: 16.1
A90: Internet | B90: AMD | C90: AMD | D90: Radeon | E90: HD | F90: 8500 | G90: M | J90: 850 | K90: 900 | L90: Ethash | N90: 1.2 | O90: MH/s | P90: =IFERROR(VLOOKUP(L90,NiceHash!$S$3:$W$33,4,FALSE)*N90,0) -> 0.049416124 | S90: =IFERROR(VLOOKUP(M90,NiceHash!$S$3:$W$33,4,FALSE)*Q90,0) -> 0 | T90: =P90+S90 -> 0.049416124 | Y90: Windows 8.1 Pro | Z90: Catalyst 14.41
A91: Internet | B91: SAPPHIRE | C91: AMD | D91: Radeon | E91: R7 | F91: 240 | J91: 780 | K91: 800 | L91: Ethash | N91: 2.5 | O91: MH/s | P91: =IFERROR(VLOOKUP(L91,NiceHash!$S$3:$W$33,4,FALSE)*N91,0) -> 0.10295026 | S91: =IFERROR(VLOOKUP(M91,NiceHash!$S$3:$W$33,4,FALSE)*Q91,0) -> 0 | T91: =P91+S91 -> 0.10295026 | Y91: Windows 7 64b | Z91: Catalyst 14.x
A92: Internet | B92: MSI | C92: AMD | D92: Radeon | E92: R7 | F92: 240 | J92: 800 | K92: 800 | L92: X11 | N92: 2.2 | O92: MH/s | P92: =IFERROR(VLOOKUP(L92,NiceHash!$S$3:$W$33,4,FALSE)*N92,0) -> 0.00031975139 | S92: =IFERROR(VLOOKUP(M92,NiceHash!$S$3:$W$33,4,FALSE)*Q92,0) -> 0 | T92: =P92+S92 -> 0.00031975139 | Y92: Ubuntu 14.04 | Z92: fglrx_pci
A93: Internet | B93: MSI | C93: AMD | D93: Radeon | E93: R7 | F93: 240 | J93: 800 | K93: 800 | L93: X11 | N93: 2.2 | O93: MH/s | P93: =IFERROR(VLOOKUP(L93,NiceHash!$S$3:$W$33,4,FALSE)*N93,0) -> 0.00031975139 | S93: =IFERROR(VLOOKUP(M93,NiceHash!$S$3:$W$33,4,FALSE)*Q93,0) -> 0 | T93: =P93+S93 -> 0.00031975139 | Y93: Ubuntu 14.04 | Z93: fglrx_pci
A94: Internet | B94: POWERCOLOR | C94: AMD | D94: Radeon | E94: R7 | F94: 250 | J94: 1030 | K94: 800 | L94: Ethash | N94: 3 | O94: MH/s | P94: =IFERROR(VLOOKUP(L94,NiceHash!$S$3:$W$33,4,FALSE)*N94,0) -> 0.12354031 | S94: =IFERROR(VLOOKUP(M94,NiceHash!$S$3:$W$33,4,FALSE)*Q94,0) -> 0 | T94: =P94+S94 -> 0.12354031 | Y94: Windows 10 | Z94: catalyst
A95: Internet | B95: POWERCOLOR | C95: AMD | D95: Radeon | E95: R7 | F95: 260 | G95: X | J95: 1075 | K95: 1500 | L95: Blake256(Decred) | N95: 0.618 | O95: GH/s | P95: =IFERROR(VLOOKUP(L95,NiceHash!$S$3:$W$33,4,FALSE)*N95,0) -> 0.037425447 | S95: =IFERROR(VLOOKUP(M95,NiceHash!$S$3:$W$33,4,FALSE)*Q95,0) -> 0 | T95: =P95+S95 -> 0.037425447 | Y95: Windows 8.1 x64 | Z95: Crimson 16.3.2
A96: Internet | B96: GIGABYTE | C96: AMD | D96: Radeon | E96: R7 | F96: 260 | G96: X | J96: 1188 | K96: 6500 | L96: Ethash | N96: 12 | O96: MH/s | P96: =IFERROR(VLOOKUP(L96,NiceHash!$S$3:$W$33,4,FALSE)*N96,0) -> 0.49416124 | S96: =IFERROR(VLOOKUP(M96,NiceHash!$S$3:$W$33,4,FALSE)*Q96,0) -> 0 | T96: =P96+S96 -> 0.49416124 | Y96: Windows 8.1 pro 64bit | Z96: Catalyst 15
A97: Internet | B97: MSI | C97: AMD | D97: Radeon | E97: R7 | F97: 260 | G97: X | J97: 1304 | K97: 1690 | L97: Ethash | N97: 4.8 | O97: MH/s | P97: =IFERROR(VLOOKUP(L97,NiceHash!$S$3:$W$33,4,FALSE)*N97,0) -> 0.19766449 | S97: =IFERROR(VLOOKUP(M97,NiceHash!$S$3:$W$33,4,FALSE)*Q97,0) -> 0 | T97: =P97+S97 -> 0.19766449 | Y97: Windows 10 | Z97: Catalyst 16.3.1
A98: Internet | B98: SAPPHIRE | C98: AMD | D98: Radeon | E98: R7 | F98: 260 | G98: X | J98: 1150 | K98: 1720 | L98: Ethash | N98: 5.16 | O98: MH/s | P98: =IFERROR(VLOOKUP(L98,NiceHash!$S$3:$W$33,4,FALSE)*N98,0) -> 0.21248933 | S98: =IFERROR(VLOOKUP(M98,NiceHash!$S$3:$W$33,4,FALSE)*Q98,0) -> 0 | T98: =P98+S98 -> 0.21248933 | Y98: Arch Linux | Z98: Catalyst 15.12
A99: Internet | B99: SAPPHIRE | C99: AMD | D99: Radeon | E99: R7 | F99: 260 | G99: X | J99: 950 | K99: 1050 | L99: Ethash | N99: 15 | O99: MH/s | P99: =IFERROR(VLOOKUP(L99,NiceHash!$S$3:$W$33,4,FALSE)*N99,0) -> 0.61770155 | S99: =IFERROR(VLOOKUP(M99,NiceHash!$S$3:$W$33,4,FALSE)*Q99,0) -> 0 | T99: =P99+S99 -> 0.61770155 | Y99: win 10 x64 | Z99: crimson 16.2.1
A100: Internet | B100: POWERCOLOR | C100: AMD | D100: Radeon | E100: R7 | F100: 260 | G100: X | J100: 1010 | K100: 1500 | L100: X11 | N100: 0.618 | O100: MH/s | P100: =IFERROR(VLOOKUP(L100,NiceHash!$S$3:$W$33,4,FALSE)*N100,0) -> 8.9821072e-05 | S100: =IFERROR(VLOOKUP(M100,NiceHash!$S$3:$W$33,4,FALSE)*Q100,0) -> 0 | T100: =P100+S100 -> 8.9821072e-05 | Y100: windows 8.1 x64 | Z100: crimson 16.3.2
...

Sheet Prices
A1: Name | B1: Value | D1: Symbol | E1: BTC/Sym | F1: Sym/BTC | G1: USD/Sym | H1: Sym/USD | J1: BTC/USD | K1: BTC/EUR | L1: BTC/BGN | M1: USD/BGN
A2: BGN | B2: 18360.25 | D2: =BTC_Prices[[#This Row],[Name]] -> BGN | E2: =IFERROR(VALUE(BTC_Prices[[#This Row],[Value]]),"") -> 18360.25 | F2: =IFERROR(1/E2,"") -> 5.4465489e-05 | G2: =IFERROR(E2/$J$2,"") -> 2.2738475 | H2: =IFERROR(F2*$J$2,"") -> 0.43978323 | J2: =VALUE(VLOOKUP("USD",D2:E200,2)) -> 8074.53 | K2: =VALUE(VLOOKUP("EUR",D2:E200,2)) -> 6526.42 | L2: =K2*1.95583 -> 12764.568 | M2: =L2/J2 -> 1.5808435
A3: EUR | B3: 6526.42 | D3: =BTC_Prices[[#This Row],[Name]] -> EUR | E3: =IFERROR(VALUE(BTC_Prices[[#This Row],[Value]]),"") -> 6526.42 | F3: =IFERROR(1/E3,"") -> 0.00015322336 | G3: =IFERROR(E3/$J$2,"") -> 0.80827243 | H3: =IFERROR(F3*$J$2,"") -> 1.2372066
A4: USD | B4: 8074.53 | D4: =BTC_Prices[[#This Row],[Name]] -> USD | E4: =IFERROR(VALUE(BTC_Prices[[#This Row],[Value]]),"") -> 8074.53 | F4: =IFERROR(1/E4,"") -> 0.00012384622 | G4: =IFERROR(E4/$J$2,"") -> 1 | H4: =IFERROR(F4*$J$2,"") -> 1

Sheet EU
A1: Algo | B1: Price | C1: Speed
A2: 0 | B2: 1.0806 | C2: 10510.12341933
A3: 1 | B3: 0.0646 | C3: 273141315.4459021
A4: 2 | B4: 0 | C4: 0
A5: 3 | B5: 0.018 | C5: 256061.9474185
A6: 4 | B6: 0.0003 | C6: 2177.9459801
A7: 5 | B7: 0.1701 | C7: 1739.18290462
A8: 6 | B8: 0.0003 | C8: 0
A9: 7 | B9: 0.1575 | C9: 5364.233849
A10: 8 | B10: 0.1167 | C10: 5.35618924
A11: 9 | B11: 0.0001 | C11: 0.03885582
A12: 10 | B12: 0 | C12: 0
A13: 11 | B13: 0.1281 | C13: 2398.350745
... A32: 30 | B32: 0.1732 | C32: 0.02522175

Sheet USA
A1: Algo | B1: Price | C1: Speed
A2: 0 | B2: 1.0806 | C2: 9833.1020625
A3: 1 | B3: 0.0646 | C3: 202322057.39702293
A4: 2 | B4: 0 | C4: 0
A5: 3 | B5: 0.018 | C5: 176294.58582062
A6: 4 | B6: 0.0003 | C6: 1251.8850335
A7: 5 | B7: 0.1701 | C7: 2992.69799008
A8: 6 | B8: 0.0003 | C8: 3.590033
A9: 7 | B9: 0.1575 | C9: 4400.12234026
A10: 8 | B10: 0.1167 | C10: 4.53807262
A11: 9 | B11: 0.0001 | C11: 0.01325183
A12: 10 | B12: 0 | C12: 0
A13: 11 | B13: 0.1281 | C13: 3899.1080156
... A32: 30 | B32: 0.1732 | C32: 0.02139776

Sheet NiceHash
A1: ID | B1: Algorithm | C1: HashRate Dimensions | F1: NiceHash Lowest Price in BTC | J1: NiceHash Lowest Price in USD | N1: NiceHash HashRate Speed | S1: For Lookup with USD Prices to API & ASIC HashRates | Y1: Представки в системата SI
C2: API | D2: ASIC | E2: Coefficient | F2: EU | G2: USA | H2: Min | I2: Dimension | J2: EU | K2: USA | L2: Min | M2: Dimension | N2: EU | O2: USA | P2: SUM | Q2: Dim | S2: Algo | T2: API | U2: Dimension | V2: ASIC | W2: Dimension | Y2: EN | Z2: BG | AA2: Symbol | AB2: Power
A3: 0 | B3: Scrypt | C3: TH | D3: MH | E3: 1000000 | F3: =VALUE(EU!B2) -> 1.0806 | G3: =VALUE(USA!B2) -> 1.0806 | H3: =MIN(F3:G3) -> 1.0806 | I3: =CONCATENATE("BTC/",C3,"/Day") -> BTC/TH/Day | J3: =F3*Prices!$J$2 -> 8725.3371 | K3: =G3*Prices!$J$2 -> 8725.3371 | L3: =H3*Prices!$J$2 -> 8725.3371 | M3: =CONCATENATE("USD/",C3,"/Day") -> USD/TH/Day | N3: =VALUE(EU!C2) -> 10510.123 | O3: =VALUE(USA!C2) -> 9833.1021 | P3: =N3+O3 -> 20343.225 | Q3: GH/s | S3: =B3 -> Scrypt | T3: =L3 -> 8725.3371 | U3: =M3 -> USD/TH/Day | V3: =T3/E3 -> 0.0087253371 | W3: =CONCATENATE("USD/",D3,"/Day") -> USD/MH/Day | Y3: yotta | Z3: йота | AA3: Y | AB3: 24
A4: 1 | B4: SHA256 | C4: PH | D4: TH | E4: 1000 | F4: =VALUE(EU!B3) -> 0.0646 | G4: =VALUE(USA!B3) -> 0.0646 | H4: =MIN(F4:G4) -> 0.0646 | I4: =CONCATENATE("BTC/",C4,"/Day") -> BTC/PH/Day | J4: =F4*Prices!$J$2 -> 521.61464 | K4: =G4*Prices!$J$2 -> 521.61464 | L4: =H4*Prices!$J$2 -> 521.61464 | M4: =CONCATENATE("USD/",C4,"/Day") -> USD/PH/Day | N4: =VALUE(EU!C3) -> 2.7314132e+08 | O4: =VALUE(USA!C3) -> 2.0232206e+08 | P4: =N4+O4 -> 4.7546337e+08 | Q4: GH/s | S4: =B4 -> SHA256 | T4: =L4 -> 521.61464 | U4: =M4 -> USD/PH/Day | V4: =T4/E4 -> 0.52161464 | W4: =CONCATENATE("USD/",D4,"/Day") -> USD/TH/Day | Y4: zetta | Z4: сета | AA4: Z | AB4: 21
A5: 2 | B5: ScryptNf | C5: GH | D5: MH | E5: 1000 | F5: =VALUE(EU!B4) -> 0 | G5: =VALUE(USA!B4) -> 0 | H5: =MIN(F5:G5) -> 0 | I5: =CONCATENATE("BTC/",C5,"/Day") -> BTC/GH/Day | J5: =F5*Prices!$J$2 -> 0 | K5: =G5*Prices!$J$2 -> 0 | L5: =H5*Prices!$J$2 -> 0 | M5: =CONCATENATE("USD/",C5,"/Day") -> USD/GH/Day | N5: =VALUE(EU!C4) -> 0 | O5: =VALUE(USA!C4) -> 0 | P5: =N5+O5 -> 0 | Q5: GH/s | S5: =B5 -> ScryptNf | T5: =L5 -> 0 | U5: =M5 -> USD/GH/Day | V5: =T5/E5 -> 0 | W5: =CONCATENATE("USD/",D5,"/Day") -> USD/MH/Day | Y5: exa | Z5: екса | AA5: E | AB5: 18
A6: 3 | B6: X11 | C6: TH | D6: MH | E6: 1000000 | F6: =VALUE(EU!B5) -> 0.018 | G6: =VALUE(USA!B5) -> 0.018 | H6: =MIN(F6:G6) -> 0.018 | I6: =CONCATENATE("BTC/",C6,"/Day") -> BTC/TH/Day | J6: =F6*Prices!$J$2 -> 145.34154 | K6: =G6*Prices!$J$2 -> 145.34154 | L6: =H6*Prices!$J$2 -> 145.34154 | M6: =CONCATENATE("USD/",C6,"/Day") -> USD/TH/Day | N6: =VALUE(EU!C5) -> 256061.95 | O6: =VALUE(USA!C5) -> 176294.59 | P6: =N6+O6 -> 432356.53 | Q6: GH/s | S6: =B6 -> X11 | T6: =L6 -> 145.34154 | U6: =M6 -> USD/TH/Day | V6: =T6/E6 -> 0.00014534154 | W6: =CONCATENATE("USD/",D6,"/Day") -> USD/MH/Day | Y6: peta | Z6: пета | AA6: P | AB6: 15
A7: 4 | B7: X13 | C7: GH | D7: MH | E7: 1000 | F7: =VALUE(EU!B6) -> 0.0003 | G7: =VALUE(USA!B6) -> 0.0003 | H7: =MIN(F7:G7) -> 0.0003 | I7: =CONCATENATE("BTC/",C7,"/Day") -> BTC/GH/Day | J7: =F7*Prices!$J$2 -> 2.422359 | K7: =G7*Prices!$J$2 -> 2.422359 | L7: =H7*Prices!$J$2 -> 2.422359 | M7: =CONCATENATE("USD/",C7,"/Day") -> USD/GH/Day | N7: =VALUE(EU!C6) -> 2177.946 | O7: =VALUE(USA!C6) -> 1251.885 | P7: =N7+O7 -> 3429.831 | Q7: GH/s | S7: =B7 -> X13 | T7: =L7 -> 2.422359 | U7: =M7 -> USD/GH/Day | V7: =T7/E7 -> 0.002422359 | W7: =CONCATENATE("USD/",D7,"/Day") -> USD/MH/Day | Y7: tera | Z7: тера | AA7: T | AB7: 12
A8: 5 | B8: Keccak | C8: TH | D8: GH | E8: 1000 | F8: =VALUE(EU!B7) -> 0.1701 | G8: =VALUE(USA!B7) -> 0.1701 | H8: =MIN(F8:G8) -> 0.1701 | I8: =CONCATENATE("BTC/",C8,"/Day") -> BTC/TH/Day | J8: =F8*Prices!$J$2 -> 1373.4776 | K8: =G8*Prices!$J$2 -> 1373.4776 | L8: =H8*Prices!$J$2 -> 1373.4776 | M8: =CONCATENATE("USD/",C8,"/Day") -> USD/TH/Day | N8: =VALUE(EU!C7) -> 1739.1829 | O8: =VALUE(USA!C7) -> 2992.698 | P8: =N8+O8 -> 4731.8809 | Q8: GH/s | S8: =B8 -> Keccak | T8: =L8 -> 1373.4776 | U8: =M8 -> USD/TH/Day | V8: =T8/E8 -> 1.3734776 | W8: =CONCATENATE("USD/",D8,"/Day") -> USD/GH/Day | Y8: giga | Z8: гига | AA8: G | AB8: 9
A9: 6 | B9: X15 | C9: GH | D9: MH | E9: 1000 | F9: =VALUE(EU!B8) -> 0.0003 | G9: =VALUE(USA!B8) -> 0.0003 | H9: =MIN(F9:G9) -> 0.0003 | I9: =CONCATENATE("BTC/",C9,"/Day") -> BTC/GH/Day | J9: =F9*Prices!$J$2 -> 2.422359 | K9: =G9*Prices!$J$2 -> 2.422359 | L9: =H9*Prices!$J$2 -> 2.422359 | M9: =CONCATENATE("USD/",C9,"/Day") -> USD/GH/Day | N9: =VALUE(EU!C8) -> 0 | O9: =VALUE(USA!C8) -> 3.590033 | P9: =N9+O9 -> 3.590033 | Q9: GH/s | S9: =B9 -> X15 | T9: =L9 -> 2.422359 | U9: =M9 -> USD/GH/Day | V9: =T9/E9 -> 0.002422359 | W9: =CONCATENATE("USD/",D9,"/Day") -> USD/MH/Day | Y9: mega | Z9: мега | AA9: M | AB9: 6
A10: 7 | B10: Nist5 | C10: TH | D10: MH | E10: 1000000 | F10: =VALUE(EU!B9) -> 0.1575 | G10: =VALUE(USA!B9) -> 0.1575 | H10: =MIN(F10:G10) -> 0.1575 | I10: =CONCATENATE("BTC/",C10,"/Day") -> BTC/TH/Day | J10: =F10*Prices!$J$2 -> 1271.7385 | K10: =G10*Prices!$J$2 -> 1271.7385 | L10: =H10*Prices!$J$2 -> 1271.7385 | M10: =CONCATENATE("USD/",C10,"/Day") -> USD/TH/Day | N10: =VALUE(EU!C9) -> 5364.2338 | O10: =VALUE(USA!C9) -> 4400.1223 | P10: =N10+O10 -> 9764.3562 | Q10: GH/s | S10: =B10 -> Nist5 | T10: =L10 -> 1271.7385 | U10: =M10 -> USD/TH/Day | V10: =T10/E10 -> 0.0012717385 | W10: =CONCATENATE("USD/",D10,"/Day") -> USD/MH/Day | Y10: kilo | Z10: кило | AA10: K | AB10: 3
A11: 8 | B11: NeoScrypt | C11: GH | D11: kH | E11: 1000000 | F11: =VALUE(EU!B10) -> 0.1167 | G11: =VALUE(USA!B10) -> 0.1167 | H11: =MIN(F11:G11) -> 0.1167 | I11: =CONCATENATE("BTC/",C11,"/Day") -> BTC/GH/Day | J11: =F11*Prices!$J$2 -> 942.29765 | K11: =G11*Prices!$J$2 -> 942.29765 | L11: =H11*Prices!$J$2 -> 942.29765 | M11: =CONCATENATE("USD/",C11,"/Day") -> USD/GH/Day | N11: =VALUE(EU!C10) -> 5.3561892 | O11: =VALUE(USA!C10) -> 4.5380726 | P11: =N11+O11 -> 9.8942619 | Q11: GH/s | S11: =B11 -> NeoScrypt | T11: =L11 -> 942.29765 | U11: =M11 -> USD/GH/Day | V11: =T11/E11 -> 0.00094229765 | W11: =CONCATENATE("USD/",D11,"/Day") -> USD/kH/Day | Y11: hecto | Z11: хекто | AA11: h | AB11: 2
A12: 9 | B12: Lyra2RE | C12: GH | D12: MH | E12: 1000 | F12: =VALUE(EU!B11) -> 0.0001 | G12: =VALUE(USA!B11) -> 0.0001 | H12: =MIN(F12:G12) -> 0.0001 | I12: =CONCATENATE("BTC/",C12,"/Day") -> BTC/GH/Day | J12: =F12*Prices!$J$2 -> 0.807453 | K12: =G12*Prices!$J$2 -> 0.807453 | L12: =H12*Prices!$J$2 -> 0.807453 | M12: =CONCATENATE("USD/",C12,"/Day") -> USD/GH/Day | N12: =VALUE(EU!C11) -> 0.03885582 | O12: =VALUE(USA!C11) -> 0.01325183 | P12: =N12+O12 -> 0.05210765 | Q12: GH/s | S12: =B12 -> Lyra2RE | T12: =L12 -> 0.807453 | U12: =M12 -> USD/GH/Day | V12: =T12/E12 -> 0.000807453 | W12: =CONCATENATE("USD/",D12,"/Day") -> USD/MH/Day | Y12: deca | Z12: дека | AA12: da | AB12: 1
A13: 10 | B13: WhirlpoolX | C13: GH | D13: MH | E13: 1000 | F13: =VALUE(EU!B12) -> 0 | G13: =VALUE(USA!B12) -> 0 | H13: =MIN(F13:G13) -> 0 | I13: =CONCATENATE("BTC/",C13,"/Day") -> BTC/GH/Day | J13: =F13*Prices!$J$2 -> 0 | K13: =G13*Prices!$J$2 -> 0 | L13: =H13*Prices!$J$2 -> 0 | M13: =CONCATENATE("USD/",C13,"/Day") -> USD/GH/Day | N13: =VALUE(EU!C12) -> 0 | O13: =VALUE(USA!C12) -> 0 | P13: =N13+O13 -> 0 | Q13: GH/s | S13: =B13 -> WhirlpoolX | T13: =L13 -> 0 | U13: =M13 -> USD/GH/Day | V13: =T13/E13 -> 0 | W13: =CONCATENATE("USD/",D13,"/Day") -> USD/MH/Day | Y13: --- | Z13: --- | AA13: --- | AB13: 0
A14: 11 | B14: Qubit | C14: TH | D14: MH | E14: 1000000 | F14: =VALUE(EU!B13) -> 0.1281 | G14: =VALUE(USA!B13) -> 0.1281 | H14: =MIN(F14:G14) -> 0.1281 | I14: =CONCATENATE("BTC/",C14,"/Day") -> BTC/TH/Day | J14: =F14*Prices!$J$2 -> 1034.3473 | K14: =G14*Prices!$J$2 -> 1034.3473 | L14: =H14*Prices!$J$2 -> 1034.3473 | M14: =CONCATENATE("USD/",C14,"/Day") -> USD/TH/Day | N14: =VALUE(EU!C13) -> 2398.3507 | O14: =VALUE(USA!C13) -> 3899.108 | P14: =N14+O14 -> 6297.4588 | Q14: GH/s | S14: =B14 -> Qubit | T14: =L14 -> 1034.3473 | U14: =M14 -> USD/TH/Day | V14: =T14/E14 -> 0.0010343473 | W14: =CONCATENATE("USD/",D14,"/Day") -> USD/MH/Day | Y14: deci | Z14: деци | AA14: d | AB14: -1
... A23: 20 | B23: Ethash | C23: GH | D23: MH | E23: 1000 | F23: =VALUE(EU!B22) -> 0.0051 | G23: =VALUE(USA!B22) -> 0.0051 | H23: =MIN(F23:G23) -> 0.0051 | I23: =CONCATENATE("BTC/",C23,"/Day") -> BTC/GH/Day | J23: =F23*Prices!$J$2 -> 41.180103 | K23: =G23*Prices!$J$2 -> 41.180103 | L23: =H23*Prices!$J$2 -> 41.180103 | M23: =CONCATENATE("USD/",C23,"/Day") -> USD/GH/Day | N23: =VALUE(EU!C22) -> 3505.0042 | O23: =VALUE(USA!C22) -> 2538.6938 | P23: =N23+O23 -> 6043.698 | Q23: GH/s | S23: =B23 -> Ethash | T23: =L23 -> 41.180103 | U23: =M23 -> USD/GH/Day | V23: =T23/E23 -> 0.041180103 | W23: =CONCATENATE("USD/",D23,"/Day") -> USD/MH/Day | Y23: yokto | Z23: йокто | AA23: y | AB23: -24
A24: 21 | B24: Blake256(Decred) | C24: TH | D24: GH | E24: 1000 | F24: =VALUE(EU!B23) -> 0.0075 | G24: =VALUE(USA!B23) -> 0.0075 | H24: =MIN(F24:G24) -> 0.0075 | I24: =CONCATENATE("BTC/",C24,"/Day") -> BTC/TH/Day | J24: =F24*Prices!$J$2 -> 60.558975 | K24: =G24*Prices!$J$2 -> 60.558975 | L24: =H24*Prices!$J$2 -> 60.558975 | M24: =CONCATENATE("USD/",C24,"/Day") -> USD/TH/Day | N24: =VALUE(EU!C23) -> 85456.357 | O24: =VALUE(USA!C23) -> 174097.37 | P24: =N24+O24 -> 259553.72 | Q24: GH/s | S24: =B24 -> Blake256(Decred) | T24: =L24 -> 60.558975 | U24: =M24 -> USD/TH/Day | V24: =T24/E24 -> 0.060558975 | W24: =CONCATENATE("USD/",D24,"/Day") -> USD/GH/Day
A25: 22 | B25: CryptoNight | C25: MH | D25: kH | E25: 1000 | F25: =VALUE(EU!B24) -> 0.0649 | G25: =VALUE(USA!B24) -> 0.0649 | H25: =MIN(F25:G25) -> 0.0649 | I25: =CONCATENATE("BTC/",C25,"/Day") -> BTC/MH/Day | J25: =F25*Prices!$J$2 -> 524.037 | K25: =G25*Prices!$J$2 -> 524.037 | L25: =H25*Prices!$J$2 -> 524.037 | M25: =CONCATENATE("USD/",C25,"/Day") -> USD/MH/Day | N25: =VALUE(EU!C24) -> 0.0480327 | O25: =VALUE(USA!C24) -> 0.16543035 | P25: =N25+O25 -> 0.21346305 | Q25: GH/s | S25: =B25 -> CryptoNight | T25: =L25 -> 524.037 | U25: =M25 -> USD/MH/Day | V25: =T25/E25 -> 0.524037 | W25: =CONCATENATE("USD/",D25,"/Day") -> USD/kH/Day
A26: 23 | B26: Lbry | C26: TH | D26: MH | E26: 1000000 | F26: =VALUE(EU!B25) -> 0.0332 | G26: =VALUE(USA!B25) -> 0.0332 | H26: =MIN(F26:G26) -> 0.0332 | I26: =CONCATENATE("BTC/",C26,"/Day") -> BTC/TH/Day | J26: =F26*Prices!$J$2 -> 268.0744 | K26: =G26*Prices!$J$2 -> 268.0744 | L26: =H26*Prices!$J$2 -> 268.0744 | M26: =CONCATENATE("USD/",C26,"/Day") -> USD/TH/Day | N26: =VALUE(EU!C25) -> 25542.583 | O26: =VALUE(USA!C25) -> 47507.269 | P26: =N26+O26 -> 73049.852 | Q26: GH/s | S26: =B26 -> Lbry | T26: =L26 -> 268.0744 | U26: =M26 -> USD/TH/Day | V26: =T26/E26 -> 0.0002680744 | W26: =CONCATENATE("USD/",D26,"/Day") -> USD/MH/Day
A27: 24 | B27: Equihash | C27: Msol | D27: Sol | E27: 1000000 | F27: =VALUE(EU!B26) -> 0.35 | G27: =VALUE(USA!B26) -> 0.35 | H27: =MIN(F27:G27) -> 0.35 | I27: =CONCATENATE("BTC/",C27,"/Day") -> BTC/Msol/Day | J27: =F27*Prices!$J$2 -> 2826.0855 | K27: =G27*Prices!$J$2 -> 2826.0855 | L27: =H27*Prices!$J$2 -> 2826.0855 | M27: =CONCATENATE("USD/",C27,"/Day") -> USD/Msol/Day | N27: =VALUE(EU!C26) -> 0.07919448 | O27: =VALUE(USA!C26) -> 0.07411335 | P27: =N27+O27 -> 0.15330783 | Q27: GSol/s | S27: =B27 -> Equihash | T27: =L27 -> 2826.0855 | U27: =M27 -> USD/Msol/Day | V27: =T27/E27 -> 0.0028260855 | W27: =CONCATENATE("USD/",D27,"/Day") -> USD/Sol/Day
A28: 25 | B28: Pascal | C28: TH | D28: MH | E28: 1000000 | F28: =VALUE(EU!B27) -> 0.0311 | G28: =VALUE(USA!B27) -> 0.0311 | H28: =MIN(F28:G28) -> 0.0311 | I28: =CONCATENATE("BTC/",C28,"/Day") -> BTC/TH/Day | J28: =F28*Prices!$J$2 -> 251.11788 | K28: =G28*Prices!$J$2 -> 251.11788 | L28: =H28*Prices!$J$2 -> 251.11788 | M28: =CONCATENATE("USD/",C28,"/Day") -> USD/TH/Day | N28: =VALUE(EU!C27) -> 11158.54 | O28: =VALUE(USA!C27) -> 19266.711 | P28: =N28+O28 -> 30425.251 | Q28: GH/s | S28: =B28 -> Pascal | T28: =L28 -> 251.11788 | U28: =M28 -> USD/TH/Day | V28: =T28/E28 -> 0.00025111788 | W28: =CONCATENATE("USD/",D28,"/Day") -> USD/MH/Day
A29: 26 | B29: X11Gost | C29: GH | D29: MH | E29: 1000 | F29: =VALUE(EU!B28) -> 0.0011 | G29: =VALUE(USA!B28) -> 0.0011 | H29: =MIN(F29:G29) -> 0.0011 | I29: =CONCATENATE("BTC/",C29,"/Day") -> BTC/GH/Day | J29: =F29*Prices!$J$2 -> 8.881983 | K29: =G29*Prices!$J$2 -> 8.881983 | L29: =H29*Prices!$J$2 -> 8.881983 | M29: =CONCATENATE("USD/",C29,"/Day") -> USD/GH/Day | N29: =VALUE(EU!C28) -> 32.795719 | O29: =VALUE(USA!C28) -> 43.816842 | P29: =N29+O29 -> 76.612561 | Q29: GH/s | S29: =B29 -> X11Gost | T29: =L29 -> 8.881983 | U29: =M29 -> USD/GH/Day | V29: =T29/E29 -> 0.008881983 | W29: =CONCATENATE("USD/",D29,"/Day") -> USD/MH/Day
A30: 27 | B30: Blake2b(Sia) | C30: TH | D30: GH | E30: 1000 | F30: =VALUE(EU!B29) -> 0.0017 | G30: =VALUE(USA!B29) -> 0.0017 | H30: =MIN(F30:G30) -> 0.0017 | I30: =CONCATENATE("BTC/",C30,"/Day") -> BTC/TH/Day | J30: =F30*Prices!$J$2 -> 13.726701 | K30: =G30*Prices!$J$2 -> 13.726701 | L30: =H30*Prices!$J$2 -> 13.726701 | M30: =CONCATENATE("USD/",C30,"/Day") -> USD/TH/Day | N30: =VALUE(EU!C29) -> 801.55532 | O30: =VALUE(USA!C29) -> 862.34397 | P30: =N30+O30 -> 1663.8993 | Q30: GH/s | S30: =B30 -> Blake2b(Sia) | T30: =L30 -> 13.726701 | U30: =M30 -> USD/TH/Day | V30: =T30/E30 -> 0.013726701 | W30: =CONCATENATE("USD/",D30,"/Day") -> USD/GH/Day
A31: 28 | B31: Blake2s | C31: TH | D31: GH | E31: 1000 | F31: =VALUE(EU!B30) -> 0.0206 | G31: =VALUE(USA!B30) -> 0.0206 | H31: =MIN(F31:G31) -> 0.0206 | I31: =CONCATENATE("BTC/",C31,"/Day") -> BTC/TH/Day | J31: =F31*Prices!$J$2 -> 166.33532 | K31: =G31*Prices!$J$2 -> 166.33532 | L31: =H31*Prices!$J$2 -> 166.33532 | M31: =CONCATENATE("USD/",C31,"/Day") -> USD/TH/Day | N31: =VALUE(EU!C30) -> 9458.318 | O31: =VALUE(USA!C30) -> 9287.9088 | P31: =N31+O31 -> 18746.227 | Q31: GH/s | S31: =B31 -> Blake2s | T31: =L31 -> 166.33532 | U31: =M31 -> USD/TH/Day | V31: =T31/E31 -> 0.16633532 | W31: =CONCATENATE("USD/",D31,"/Day") -> USD/GH/Day
A32: 29 | B32: Skunk | C32: GH | D32: MH | E32: 1000 | F32: =VALUE(EU!B31) -> 0.0041 | G32: =VALUE(USA!B31) -> 0.0041 | H32: =MIN(F32:G32) -> 0.0041 | I32: =CONCATENATE("BTC/",C32,"/Day") -> BTC/GH/Day | J32: =F32*Prices!$J$2 -> 33.105573 | K32: =G32*Prices!$J$2 -> 33.105573 | L32: =H32*Prices!$J$2 -> 33.105573 | M32: =CONCATENATE("USD/",C32,"/Day") -> USD/GH/Day | N32: =VALUE(EU!C31) -> 15.948704 | O32: =VALUE(USA!C31) -> 12.804231 | P32: =N32+O32 -> 28.752936 | Q32: GH/s | S32: =B32 -> Skunk | T32: =L32 -> 33.105573 | U32: =M32 -> USD/GH/Day | V32: =T32/E32 -> 0.033105573 | W32: =CONCATENATE("USD/",D32,"/Day") -> USD/MH/Day
A33: 30 | B33: CryptoNightV7 | C33: MH | D33: kH | E33: 1000 | F33: =VALUE(EU!B32) -> 0.1732 | G33: =VALUE(USA!B32) -> 0.1732 | H33: =MIN(F33:G33) -> 0.1732 | I33: =CONCATENATE("BTC/",C33,"/Day") -> BTC/MH/Day | J33: =F33*Prices!$J$2 -> 1398.5086 | K33: =G33*Prices!$J$2 -> 1398.5086 | L33: =H33*Prices!$J$2 -> 1398.5086 | M33: =CONCATENATE("USD/",C33,"/Day") -> USD/MH/Day | N33: =VALUE(EU!C32) -> 0.02522175 | O33: =VALUE(USA!C32) -> 0.02139776 | P33: =N33+O33 -> 0.04661951 | Q33: GH/s | S33: =B33 -> CryptoNightV7 | T33: =L33 -> 1398.5086 | U33: =M33 -> USD/MH/Day | V33: =T33/E33 -> 1.3985086 | W33: =CONCATENATE("USD/",D33,"/Day") -> USD/kH/Day
